BEGIN:VCALENDAR
VERSION:2.0
PRODID:-//Librería Liberespacio - ECPv4.5.13//NONSGML v1.0//EN
CALSCALE:GREGORIAN
METHOD:PUBLISH
X-WR-CALNAME:Librería Liberespacio
X-ORIGINAL-URL:https://www.liberespacio.com
X-WR-CALDESC:Events for Librería Liberespacio
BEGIN:VEVENT
DTSTART;TZID=UTC+0:20180511T183000
DTEND;TZID=UTC+0:20180511T193000
DTSTAMP:20260419T221905
CREATED:20180411T163039Z
LAST-MODIFIED:20180531T094338Z
UID:8645-1526063400-1526067000@www.liberespacio.com
SUMMARY:Viernes de cuento en Liberespacio
DESCRIPTION:\n\n\n\n+ 4 Años\nActividad familiar gratuita hasta completar aforo.\nViernes 11 de mayo a las 18:30.\nDuración 1 hora.\nActividad sin reserva\n \n\n\nVen a Liberespacio a disfrutar de nuestros viernes de cuento en primavera.\nEste viernes contaremos El vaquero más salvaje de la editorial Blume.\n\n\n\n\n\n
URL:https://www.liberespacio.com/eventos/viernes-cuento-liberespacio-2018-05-11/
LOCATION:C/Joaquín María López\, 25\, Madrid\, Madrid\, 28015\, España
CATEGORIES:Actividades en la librería
ATTACH;FMTTYPE=image/jpeg:https://www.liberespacio.com/wp-content/uploads/2018/04/contamosviernes-e1525685285309.jpg
ORGANIZER;CN="Librer%C3%ADa%20Liberespacio":MAILTO:info@liberespacio.com
END:VEVENT
END:VCALENDAR