BEGIN:VCALENDAR
VERSION:2.0
PRODID:-//Librería Liberespacio - ECPv4.5.13//NONSGML v1.0//EN
CALSCALE:GREGORIAN
METHOD:PUBLISH
X-WR-CALNAME:Librería Liberespacio
X-ORIGINAL-URL:https://www.liberespacio.com
X-WR-CALDESC:Events for Librería Liberespacio
BEGIN:VEVENT
DTSTART;VALUE=DATE:20200423
DTEND;VALUE=DATE:20200502
DTSTAMP:20260425T144033
CREATED:20200323T140417Z
LAST-MODIFIED:20201021T180910Z
UID:18333-1587600000-1588463999@www.liberespacio.com
SUMMARY:Video cuento de Rodari
DESCRIPTION:El jueves 23 de abril celebramos el Día del Libro\, desde el confinamiento. Esperamos poder celebrarlo pronto con vosotros\, en cuanto abramos otra vez la librería al público y podamos retomar las actividades presenciales. Mientras tanto\, os subimos  un vídeo en el que Zaida nos cuenta historias y Retahílas de Gianni Rodari\, para conmemorar el centenario de su nacimiento.\n \nTambién hemos preparado una selección con los libros que tenemos actualmente en stock de este genial escritor italiano. Podéis acceder en el siguiente enlace:\n Accede a nuestra Selección de libros de Rodari\n  \n  \n  \n  \n
URL:https://www.liberespacio.com/eventos/video-cuento-de-rodari/
LOCATION:Internet
CATEGORIES:Actividades infantiles en las redes
ATTACH;FMTTYPE=image/jpeg:https://www.liberespacio.com/wp-content/uploads/2020/04/diadellibrorodari.jpg
ORGANIZER;CN="Librer%C3%ADa%20Liberespacio":MAILTO:info@liberespacio.com
END:VEVENT
END:VCALENDAR