BEGIN:VCALENDAR
VERSION:2.0
PRODID:-//Librería Liberespacio - ECPv4.5.13//NONSGML v1.0//EN
CALSCALE:GREGORIAN
METHOD:PUBLISH
X-WR-CALNAME:Librería Liberespacio
X-ORIGINAL-URL:https://www.liberespacio.com
X-WR-CALDESC:Events for Librería Liberespacio
BEGIN:VEVENT
DTSTART;TZID=UTC+0:20180228T180000
DTEND;TZID=UTC+0:20180228T190000
DTSTAMP:20260421T222742
CREATED:20180128T170012Z
LAST-MODIFIED:20180305T103340Z
UID:7705-1519840800-1519844400@www.liberespacio.com
SUMMARY:Ven a conocer a la ardilla Rasi y a su creadora Begoña Oro
DESCRIPTION:El Miércoles 28 de febrero a las 18:00 ven a conocer a la ardilla Rasi y los libros que narran sus aventuras junto a su creadora\, la escritora Begoña Oro. Tras la actividad podréis haceros fotos con vuestra mascota preferida y tendremos firma de ejemplares.\nSi no podéis venir\, también podréis comprar sus libros por anticipado en la página de la autora de nuestra tienda online\, antes del miércoles 28 de febrero a las 17 horas y los recibiréis dedicados por Begoña. Para ello\, indicar el nombre de la persona a la que va dedicado en el campo observaciones del formulario de pedido.\n+ 6 Años\nActividad familiar gratuita hasta completar aforo.\n  \n  \n
URL:https://www.liberespacio.com/eventos/ven-conocer-la-ardilla-rasi-creadora-begona-oro/
LOCATION:C/Joaquín María López\, 25\, Madrid\, Madrid\, 28015\, España
CATEGORIES:Actividades en la librería,Encuentros con autores y presentaciones
ATTACH;FMTTYPE=image/jpeg:https://www.liberespacio.com/wp-content/uploads/2018/02/Poster-Rasi-28-febreMadrid.jpg
ORGANIZER;CN="Librer%C3%ADa%20Liberespacio":MAILTO:info@liberespacio.com
END:VEVENT
END:VCALENDAR