BEGIN:VCALENDAR
VERSION:2.0
PRODID:-//Librería Liberespacio - ECPv4.5.13//NONSGML v1.0//EN
CALSCALE:GREGORIAN
METHOD:PUBLISH
X-WR-CALNAME:Librería Liberespacio
X-ORIGINAL-URL:https://www.liberespacio.com
X-WR-CALDESC:Events for Librería Liberespacio
BEGIN:VEVENT
DTSTART;TZID=UTC+0:20171007T113000
DTEND;TZID=UTC+0:20171007T123000
DTSTAMP:20260419T141201
CREATED:20170807T084742Z
LAST-MODIFIED:20171106T203324Z
UID:6205-1507375800-1507379400@www.liberespacio.com
SUMMARY:Ven a conocer al Pollo Pepe a Liberespacio
DESCRIPTION:Sábado 7 de Octubre de 11:30 a 12:30\nActividad familiar gratuita para todos los públicos.\nVen a conocer al Pollo Pepe y no te vayas sin hacerte una foto con él. Además\, os enseñaremos todos los libros del Pollo Pepe.\nPRODUCTOS RELACIONADOS\n   \n  \n \n
URL:https://www.liberespacio.com/eventos/ven-a-conocer-al-pollo-pepe-a-liberespacio/
LOCATION:C/Joaquín María López\, 25\, Madrid\, Madrid\, 28015\, España
CATEGORIES:Actividades en la librería,Fomento de la lectura
ATTACH;FMTTYPE=image/jpeg:https://www.liberespacio.com/wp-content/uploads/2017/10/Pollo-Pepe.jpg
ORGANIZER;CN="Librer%C3%ADa%20Liberespacio":MAILTO:info@liberespacio.com
END:VEVENT
END:VCALENDAR