BEGIN:VCALENDAR
VERSION:2.0
PRODID:-//Librería Liberespacio - ECPv4.5.13//NONSGML v1.0//EN
CALSCALE:GREGORIAN
METHOD:PUBLISH
X-WR-CALNAME:Librería Liberespacio
X-ORIGINAL-URL:https://www.liberespacio.com
X-WR-CALDESC:Events for Librería Liberespacio
BEGIN:VEVENT
DTSTART;TZID=UTC+0:20180531T193000
DTEND;TZID=UTC+0:20180531T203000
DTSTAMP:20260425T130231
CREATED:20180430T165941Z
LAST-MODIFIED:20180618T155231Z
UID:8661-1527795000-1527798600@www.liberespacio.com
SUMMARY:Tertulia literaria "el último jueves"
DESCRIPTION:\n\n\n\nActividad para Adultos\nPrecio Sesión 10€\nPrecio 1er Semestre completo 50€*\n* Los asistentes a la tertulia disfrutarán de un 5% de descuento en sus compras en nuestra librería\nEl último jueves de cada mes a las 19:30. Duración 1 hora.\nGrupo limitado a un máximo de 15 asistentes.\n  \nReserva Aquí:\n\n            var ajaxurl = 'https://www.liberespacio.com/wp-admin/admin-ajax.php';\n            var smartFormsCurrentTime=new Date('Sat Apr 25 2026 13:02:31 +0000');\n            	var smartFormsUserName="";\n            	var smartFormsFirstName="";\n            	var smartFormsLastName="";\n            	var smartFormsEmail="";\n                var smartFormsPath="https://www.liberespacio.com/wp-content/plugins/smart-forms/";\n                var smartDonationsRootPath="";\n                var smartDonationsSandbox="";\n                var smartFormsAdditionalFields5=[];\n                var smartFormsDesignMode=false;\n                if(!window.smartFormsItemsToLoad)\n                    window.smartFormsItemsToLoad=new Array();                                                   \n        window.smartFormsItemsToLoad.push({ 'form_id':5\,  'elements':[{"ClassName":"rednaotextinput"\,"IsRequired":"n"\,"Formulas":{}\,"Styles":{}\,"Id":"rnField7"\,"Spacing":"col-sm-8"\,"Label":"Actividad"\,"Placeholder":"Reserva Yoga para adultos"\,"Value":""\,"ReadOnly":"y"\,"Width":""\,"Icon":{"ClassName":""}\,"CustomCSS":""\,"Placeholder_Icon":{"ClassName":""\,"Orientation":""}\,"ContainerOptions":{"Id":"1"\,"Type":"single"\,"Width":-1}\,"_id":1}\,{"ClassName":"rednaoname"\,"IsRequired":"y"\,"Formulas":{}\,"Styles":{}\,"Id":"rnField5"\,"Spacing":"col-sm-10"\,"Label":"Nombre y Apellidos"\,"FirstNamePlaceholder":"Nombre"\,"LastNamePlaceholder":"Apellidos"\,"FirstNameValue":""\,"LastNameValue":""\,"ReadOnly":"n"\,"Icon":{"ClassName":""}\,"CustomCSS":""\,"ContainerOptions":{"Id":"2"\,"Type":"single"\,"Width":-1}\,"FirstNamePlaceholder_Icon":{"ClassName":""}\,"_id":2}\,{"ClassName":"rednaonumber"\,"IsRequired":"y"\,"Formulas":{}\,"Styles":{}\,"Id":"rnField3"\,"Spacing":"col-sm-6"\,"Label":"Teléfono"\,"Placeholder":"Nº Teléfono"\,"NumberOfDecimals":0\,"MaximumValue":""\,"MinimumValue":""\,"Icon":{"ClassName":""}\,"CustomCSS":""\,"Placeholder_Icon":{"ClassName":""\,"Orientation":""}\,"ContainerOptions":{"Id":"3"\,"Type":"single"\,"Width":-1}\,"Decimals":0\,"_id":3\,"Width":""\,"Value":""}\,{"ClassName":"rednaoemail"\,"IsRequired":"y"\,"Formulas":{}\,"Styles":{}\,"Id":"rnField4"\,"Spacing":"col-sm-10"\,"Label":"Email"\,"Placeholder":"Email"\,"Icon":{"ClassName":""}\,"CustomCSS":""\,"Placeholder_Icon":{"ClassName":""\,"Orientation":""}\,"ContainerOptions":{"Id":"4"\,"Type":"single"\,"Width":-1}\,"_id":4\,"ReadOnly":"n"\,"Value":""}\,{"_id":81\,"ClassName":"rednaoprependedcheckbox"\,"IsRequired":"y"\,"Formulas":{}\,"Styles":{}\,"ContainerOptions":{"Width":-1\,"Id":"82"\,"Type":"single"}\,"Id":"rnField23"\,"Spacing":"col-sm-12"\,"Label":"¿Quieres suscribirte  a nuestra newsletter?"\,"Placeholder":""\,"IsChecked":"n"\,"Value":"Sí. Autorizo a Liberespacio a enviarme comunicaciones por correo electrónico a la dirección de e-mail arriba indicada"\,"Width":""\,"CustomCSS":""\,"Placeholder_Icon":{"ClassName":""\,"Orientation":""}}\,{"ClassName":"rednaosubmissionbutton"\,"IsRequired":"n"\,"Formulas":{}\,"Styles":{"redNaoSubmitButton":{"Scope":"1"\,"Properties":{"Color":"#120B04"\,"background-color":"#CAFF4F"}}}\,"Id":"rnField10"\,"Spacing":"col-sm-12"\,"ButtonText":"Reservar"\,"CustomCSS":""\,"Icon":{"ClassName":""}\,"Animated":"y"\,"ContainerOptions":{"Id":"6"\,"Type":"single"\,"Width":-1}\,"_id":6}]\,'client_form_options':{"JavascriptCode":[]\,"CSS":""\,"Conditions":[]\,"UsesCaptcha":"n"\,"CaptchaVersion":""\,"alert_message":"Tu reserva ha sido enviada con éxito.\n¡Gracias por participar en nuestras actividades!"\,"alert_message_cb":"y"\,"DontClearForm":"n"\,"redirect_to":[{"URL":""\,"RCSettings":{"Redirect":"always"\,"ConditionSettings":[]}}]\,"redirect_to_cb":"n"\,"Campaign":""\,"PayPalEmail":""\,"PayPalCondition":{}\,"PayPalType":"donation"\,"PayPalDescription":""\,"PayPalCurrency":"USD"\,"Formulas":{}\,"InvalidInputMessage":"Por favor\, rellene todos los campos obligatorios"\,"FormType":"nor"\,"SplitSteps":{}\,"ToolTipPosition":"right"\,"Theme":"basic"\,"LabelLayout":"top"\,"Extensions":{}}\,'container':'formContainer1026594842'});\nY si prefieres realizar el pago por anticipado:\nPago: 1 sesión.\n \n\nNos gusta leer y queremos intercambiar lecturas e impresiones con vosotros en un encuentro mensual. Este primer ciclo constará de 6 encuentros el último jueves de cada mes. Comenzamos en enero.\nPrograma 2018: Premios Nobel de Literatura.\nCoordinadora de la tertulia: Carmen Jimenez.\nQuinta sesión: Doris Lessing  Gatos ilustres\n\nEl fallo del premio Nobel de Literatura siempre genera dudas. Una de ellas\, y no poco frecuente\, es la de preguntarse si lo normal es no tener ni la más remota idea de quien es ese autor tan preeminente de quien no hemos oído hablar en nuestra vida. No siempre es así. Y es que no debe de ser nada fácil elegir entre tantos y tan relevantes escritores vivos\, y al mismo tiempo resistir a la tentación de la moda\, a las presiones políticas o sencillamente\, al postureo. Sin embargo\, entre los ganadores hay\ngrandes escritores.\n\n\n\n\n\n  \n\n
URL:https://www.liberespacio.com/eventos/tertulia-literaria-2018-05-31/
LOCATION:C/Joaquín María López\, 25\, Madrid\, Madrid\, 28015\, España
CATEGORIES:Actividades en la librería,Tertulias
ATTACH;FMTTYPE=image/jpeg:https://www.liberespacio.com/wp-content/uploads/2018/04/TERTULIAmayo-e1525682376451.jpg
ORGANIZER;CN="Librer%C3%ADa%20Liberespacio":MAILTO:info@liberespacio.com
END:VEVENT
END:VCALENDAR