BEGIN:VCALENDAR
VERSION:2.0
PRODID:-//Librería Liberespacio - ECPv4.5.13//NONSGML v1.0//EN
CALSCALE:GREGORIAN
METHOD:PUBLISH
X-WR-CALNAME:Librería Liberespacio
X-ORIGINAL-URL:https://www.liberespacio.com
X-WR-CALDESC:Events for Librería Liberespacio
BEGIN:VEVENT
DTSTART;TZID=Europe/Madrid:20201219T183000
DTEND;TZID=Europe/Madrid:20201219T200000
DTSTAMP:20260422T140043
CREATED:20201119T175255Z
LAST-MODIFIED:20210111T175408Z
UID:21671-1608402600-1608408000@www.liberespacio.com
SUMMARY:Taller virtual "Navidad en Hogwarts"
DESCRIPTION: Haz aquí tu reserva\nEl sábado 19 de diciembre a las 18:30 horas\, si te perdiste o te quedaste sin plazas para asistir la semana pasada\, te ofrecemos una nueva sesión del taller  virtual «Navidad en Hogwarts» ofrecido por Letrimagia.\nDisfruta de una tarde de fantasía y creatividad en la que nos adentraremos a los mundos mágicos de la saga de magos más famosa\, en un increíble viaje online para ver cómo viven los magos la Navidad.\nViajaremos en el Hogwarts Express y en escoba voladora\, haremos nuestras compras navideñas en el Callejón Diagón y viviremos la Navidad con la comunidad de Harry Potter.\nPrecio 5€\nActividad virtual familiar con reserva y pago anticipado\n\nDe 5 a 11 años\nUna vez recibido el pago\, recibirás un correo con los datos de acceso al evento.\n Haz aquí tu reserva\nTambién puede interesarte nuestra selección de libros de Harry Potter\n Quiero comprar libros del universo Harry Potter\n\n
URL:https://www.liberespacio.com/eventos/taller-virtual-navidad-en-hogwarts-2/
LOCATION:Internet
CATEGORIES:Actividades infantiles en las redes,Fomento de la lectura,taller de historia
ATTACH;FMTTYPE=image/jpeg:https://www.liberespacio.com/wp-content/uploads/2020/11/Acceso-Viaje-Hogwarts-Navidad-Liberespacio-Letrimagia1912.jpg
END:VEVENT
END:VCALENDAR