BEGIN:VCALENDAR
VERSION:2.0
PRODID:-//Librería Liberespacio - ECPv4.5.13//NONSGML v1.0//EN
CALSCALE:GREGORIAN
METHOD:PUBLISH
X-WR-CALNAME:Librería Liberespacio
X-ORIGINAL-URL:https://www.liberespacio.com
X-WR-CALDESC:Events for Librería Liberespacio
BEGIN:VEVENT
DTSTART;TZID=Europe/Madrid:20210624T180000
DTEND;TZID=Europe/Madrid:20210624T193000
DTSTAMP:20260420T223858
CREATED:20210621T171600Z
LAST-MODIFIED:20210624T153109Z
UID:24847-1624557600-1624563000@www.liberespacio.com
SUMMARY:Taller virtual La noche de los libros de Harry Potter
DESCRIPTION:Taller virtual La noche de los libros de Harry Potter\n\n\n\nEl 24 de junio a las 18:00 celebramos la noche de los libros de Harry Potter.  Un día en el que todos los magos del mundo\, celebran la magia de la saga creada por J.K. Rowling.\nDe la mano de Letrimagia\, nos adentraremos en los mundos mágicos de la saga de magos más famoso.\nActividad gratuita en directo por youtube\,\n\n\n\nPlazas Ilimitadas.\n De 3 a 12 años.\n\n\n\n\n\n\n\n\n\n\n\n\nNecesitarás tener preparado el siguiente material:\n✨ Papel\n✨ Pinturas o rotuladores de colores\n✨ Magia\n\n\n\n\n\n\n\n\n\n\n\n\n\n\n\n\n\n\n\n\n\n\n\n\nEste evento ocurrirá ONLINE con la plataforma YOUTUBE.\nAQUI TIENES LOS DATOS PARA LA CONEXION.\nJueves 24 JUNIO 6PM (hora española peninsular)\nhttps://youtu.be/rZj_afCS1ps\nSi hubiese algún dementor que atacase nuestro viaje\, entonces utilizaríamos esta otra conexión:\n6PM: https://youtu.be/HdlGfDNE9Kk\nEste es solo en caso de emergencia.\n\n\n\n\n\n\n\n\n\n\n\n\n\nTambién puede interesarte nuestra selección de libros sobre Harry Potter\n Quiero comprar libros de Harry Potter\n
URL:https://www.liberespacio.com/eventos/taller-virtual-la-noche-de-los-libros-harry-potter/
LOCATION:Internet
CATEGORIES:Actividades infantiles,Actividades infantiles en las redes,Fomento de la lectura,taller de historia
ATTACH;FMTTYPE=image/jpeg:https://www.liberespacio.com/wp-content/uploads/2021/06/CARTEL-NocheLibrosHP-1-e1624295692707.jpg
END:VEVENT
END:VCALENDAR