BEGIN:VCALENDAR
VERSION:2.0
PRODID:-//Librería Liberespacio - ECPv4.5.13//NONSGML v1.0//EN
CALSCALE:GREGORIAN
METHOD:PUBLISH
X-WR-CALNAME:Librería Liberespacio
X-ORIGINAL-URL:https://www.liberespacio.com
X-WR-CALDESC:Events for Librería Liberespacio
BEGIN:VEVENT
DTSTART;TZID=Europe/Madrid:20220319T170000
DTEND;TZID=Europe/Madrid:20220319T193000
DTSTAMP:20260420T192600
CREATED:20220308T145155Z
LAST-MODIFIED:20220311T101632Z
UID:27670-1647709200-1647718200@www.liberespacio.com
SUMMARY:Taller presentación elige tu aventura con La Agencia Kronos
DESCRIPTION:El sábado 19 de marzo a las 17:00h en 1ª sesión y a las 18:30 en 2ªsesión\, la Agencia Kronos busca agentes amantes de los misterios y la aventura.\n\nCrearemos un libro-juego entre todos con los autores de la saga.\nHabrá firma de ejemplares y ¡regalos!\nLa sesión durará aproximadamente 1 HORA.\nActividad presencial gratuita con reserva y plazas limitadas\n Uso obligatorio de mascarilla.\nDe 8 a 11 Años\nRESERVA AQUÍ:\n\n\n\n\n\n1ª Sesión 17h.\n\n\n2ª Sesión 18:30\n\n\n\n  Reservas y compra de libros\n   Reservas y compra de libros\n\n\n\n\nPlazas limitadas\nCon la colaboración de la editorial Algar.\n Compra aquí los libros de la colección\n
URL:https://www.liberespacio.com/eventos/taller-presentacion-elige-tu-aventura-con-la-agencia-kronos/
LOCATION:C/Joaquín María López\, 25\, Madrid\, Madrid\, 28015\, España
CATEGORIES:Actividades en la librería,Actividades infantiles,Encuentros con autores y presentaciones,Fomento de la lectura
ATTACH;FMTTYPE=image/png:https://www.liberespacio.com/wp-content/uploads/2022/03/cartel1903.png
ORGANIZER;CN="Librer%C3%ADa%20Liberespacio":MAILTO:info@liberespacio.com
END:VEVENT
END:VCALENDAR