BEGIN:VCALENDAR
VERSION:2.0
PRODID:-//Librería Liberespacio - ECPv4.5.13//NONSGML v1.0//EN
CALSCALE:GREGORIAN
METHOD:PUBLISH
X-WR-CALNAME:Librería Liberespacio
X-ORIGINAL-URL:https://www.liberespacio.com
X-WR-CALDESC:Events for Librería Liberespacio
BEGIN:VEVENT
DTSTART;TZID=Europe/Madrid:20211111T173000
DTEND;TZID=Europe/Madrid:20211111T203000
DTSTAMP:20260425T185801
CREATED:20211102T155106Z
LAST-MODIFIED:20211109T103914Z
UID:26245-1636651800-1636662600@www.liberespacio.com
SUMMARY:Taller de Experimentación y creación
DESCRIPTION:El jueves 11 de noviembre a las 17:30h. nos sumamos a las actividades del Día de las librerías con el taller gratuito de experimentación y creación  realizado por el ilustrador Albert Asensio.\nComo novedad utilizaremos cepillos de dientes para experimentar nuevas técnicas creativas.\n+ De 4 a 8 años\n\nActividad familiar gratuita con reserva previa\nAforo limitado. \nReserva aquí: Dos sesiones disponibles.\n\n Grupo 1 17:30h. De 4 a 8 Años\n Grupo 2 19:00. De 8 a 12 Años\nCon la colaboración de Editorial Juventud\n Descubre aquí los libros de Albert Asensio\n  \n
URL:https://www.liberespacio.com/eventos/taller-de-experimentacion-y-creacion/
LOCATION:C/Joaquín María López\, 25\, Madrid\, Madrid\, 28015\, España
CATEGORIES:Actividades en la librería,Actividades infantiles,Encuentros con autores y presentaciones,Fomento de la ciencia
ATTACH;FMTTYPE=image/jpeg:https://www.liberespacio.com/wp-content/uploads/2021/11/Liber-espacio_Asensio_cuadrado.jpg
ORGANIZER;CN="Librer%C3%ADa%20Liberespacio":MAILTO:info@liberespacio.com
END:VEVENT
END:VCALENDAR