BEGIN:VCALENDAR
VERSION:2.0
PRODID:-//Librería Liberespacio - ECPv4.5.13//NONSGML v1.0//EN
CALSCALE:GREGORIAN
METHOD:PUBLISH
X-WR-CALNAME:Librería Liberespacio
X-ORIGINAL-URL:https://www.liberespacio.com
X-WR-CALDESC:Events for Librería Liberespacio
BEGIN:VEVENT
DTSTART;TZID=Europe/Madrid:20260116T070000
DTEND;TZID=Europe/Madrid:20260116T203000
DTSTAMP:20260421T192652
CREATED:20260105T074643Z
LAST-MODIFIED:20260108T102557Z
UID:43134-1768546800-1768595400@www.liberespacio.com
SUMMARY:Taller de escritura creativa para niños y niñas.
DESCRIPTION:Comenzamos un nuevo taller trimestral de escritura creativa\, con una sesión de una hora y media de duración al mes y valoración trimestral individual del trabajo realizado.\nImpartido por Lola Núñez\, editora y escritora\, el objetivo del curso es imaginar y vivir grandes aventuras\, mirar lo que nos rodea con una mirada creativa\, aprender a contar historias fabulosas y divertirse con las palabras.\nViernes 16 de enero a las 19h.\nPróximas fechas:\nViernes 20 de febrero y Viernes 6 de marzo\nDe 9 a 12 años\nEl curso se plantea en bloques trimestrales de octubre a junio.\n\n\n\n\n\nEntrada mensual\n\n\nEntrada trimestral\n\n\n\n\n Compra aquí tu entrada mensual \n\n\n Compra aquí tu entrada trimestral\n\n\n\n\n\nDescuento especial para hermanos:\n Compra aquí tu entrada trimestral con descuento de hermanos\n
URL:https://www.liberespacio.com/eventos/taller-de-escritura-creativa-para-ninos-y-ninas-4/
LOCATION:C/Joaquín María López\, 25\, Madrid\, Madrid\, 28015\, España
CATEGORIES:Actividades en la librería,Actividades infantiles,Taller de escritura creeativa
ATTACH;FMTTYPE=image/png:https://www.liberespacio.com/wp-content/uploads/2024/08/TALLERESCRITURA-NINS.png
ORGANIZER;CN="Librer%C3%ADa%20Liberespacio":MAILTO:info@liberespacio.com
END:VEVENT
END:VCALENDAR