BEGIN:VCALENDAR
VERSION:2.0
PRODID:-//Librería Liberespacio - ECPv4.5.13//NONSGML v1.0//EN
CALSCALE:GREGORIAN
METHOD:PUBLISH
X-WR-CALNAME:Librería Liberespacio
X-ORIGINAL-URL:https://www.liberespacio.com
X-WR-CALDESC:Events for Librería Liberespacio
BEGIN:VEVENT
DTSTART;TZID=Europe/Madrid:20251212T070000
DTEND;TZID=Europe/Madrid:20251212T203000
DTSTAMP:20260420T192547
CREATED:20251202T124638Z
LAST-MODIFIED:20251202T124901Z
UID:42870-1765522800-1765571400@www.liberespacio.com
SUMMARY:Taller de escritura creativa para niños y niñas.
DESCRIPTION:Continuamos con el taller trimestral de escritura creativa\, con una sesión de una hora y media de duración al mes y valoración trimestral individual del trabajo realizado.\nImpartido por Lola Núñez\, editora y escritora\, el objetivo del curso es imaginar y vivir grandes aventuras\, mirar lo que nos rodea con una mirada creativa\, aprender a contar historias fabulosas y divertirse con las palabras.\nViernes 12 de diciembre a las 19h.\nDe 9 a 12 años\nEl curso se plantea en bloques trimestrales de octubre a junio.\n Compra aquí tu entrada mensual \n
URL:https://www.liberespacio.com/eventos/taller-de-escritura-creativa-para-ninos-y-ninas-1225/
LOCATION:C/Joaquín María López\, 25\, Madrid\, Madrid\, 28015\, España
CATEGORIES:Actividades en la librería,Actividades infantiles,Taller de escritura creeativa
ATTACH;FMTTYPE=image/png:https://www.liberespacio.com/wp-content/uploads/2024/08/TALLERESCRITURA-NINS.png
ORGANIZER;CN="Librer%C3%ADa%20Liberespacio":MAILTO:info@liberespacio.com
END:VEVENT
END:VCALENDAR