BEGIN:VCALENDAR
VERSION:2.0
PRODID:-//Librería Liberespacio - ECPv4.5.13//NONSGML v1.0//EN
CALSCALE:GREGORIAN
METHOD:PUBLISH
X-WR-CALNAME:Librería Liberespacio
X-ORIGINAL-URL:https://www.liberespacio.com
X-WR-CALDESC:Events for Librería Liberespacio
BEGIN:VEVENT
DTSTART;TZID=Europe/Madrid:20211023T123000
DTEND;TZID=Europe/Madrid:20211023T140000
DTSTAMP:20260425T160358
CREATED:20211019T114820Z
LAST-MODIFIED:20211020T131005Z
UID:25968-1634992200-1634997600@www.liberespacio.com
SUMMARY:Taller de ciencia e ilustración: El bosque en nuestra casa
DESCRIPTION:¿Qué fue antes la semilla o el árbol?\nEl sábado 23 de octubre a las 12:30 ofreceremos un taller presencial gratuito que combina ciencia e ilustración\, realizado por Sonia Roig y Sara Fernández\, ingenieras de montes y autoras del libro El bosque en nuestra casa\, publicado por A Buen Paso.\nApoyándonos en las ilustraciones del libro\, y en algunos experimentos que haremos con semillas\, deduciremos entre todos qué semillas deberíamos usar (y si son viables\, es decir\, si germinarán o no) o qué árboles deberíamos plantar en un bosque que se ha quemado y cómo hacerlo. Y\, entre todos\, nos inventaremos e ilustraremos la historia de una súper semilla.\nAl finalizar el taller las autoras firmarán ejemplares del libro.\nActividad infantil familiar gratuita con reserva.\nDe 5 a 10 años.\nMáximo un acompañante adulto por familia\nSesión Completa. Se abre una nueva sesión a las 11 a.m.\n\n Compra aquí El bosque en nuestra casa\n
URL:https://www.liberespacio.com/eventos/taller-de-ciencia-e-ilustracion/
LOCATION:C/Joaquín María López\, 25\, Madrid\, Madrid\, 28015\, España
CATEGORIES:Actividades en la librería,Actividades infantiles,Encuentros con autores y presentaciones,Fomento de la ciencia
ATTACH;FMTTYPE=image/jpeg:https://www.liberespacio.com/wp-content/uploads/2021/10/Actividad_231021.jpg
ORGANIZER;CN="Librer%C3%ADa%20Liberespacio":MAILTO:info@liberespacio.com
END:VEVENT
END:VCALENDAR