BEGIN:VCALENDAR
VERSION:2.0
PRODID:-//Librería Liberespacio - ECPv4.5.13//NONSGML v1.0//EN
CALSCALE:GREGORIAN
METHOD:PUBLISH
X-WR-CALNAME:Librería Liberespacio
X-ORIGINAL-URL:https://www.liberespacio.com
X-WR-CALDESC:Events for Librería Liberespacio
BEGIN:VEVENT
DTSTART;TZID=UTC+0:20180412T110000
DTEND;TZID=UTC+0:20180412T130000
DTSTAMP:20260421T175209
CREATED:20180312T100041Z
LAST-MODIFIED:20180514T065237Z
UID:8021-1523530800-1523538000@www.liberespacio.com
SUMMARY:Taller de baby-led weaning y recetas para bebés con Sara Traver
DESCRIPTION:Sábado 12 de abril 11 a.m.\nDuración 2 horas\nTaller para padres y madres con bebés.\nPrecio 20€ por persona o 35€ por pareja.\nReserva pinchando aquí: Entrada individual o Entrada Pareja\nEste taller está dirigido por Sara Traver\, fundadora de Natural Wean y experta en BLW\, y nace de las propias inquietudes de una madre que\, como muchas otras\, necesitan estar seguras de que su bebé está creciendo sano\, fuerte ¡y a salvo!\nVeremos las pautas y trucos sobre la alimentación complementaria y dejaremos un espacio abierto para resolver todas las preguntas que se deseen en directo.\nHablaremos sobre…\n¿Qué es baby led weaning? ¿Cómo empezar? Alimentos recomendados y prohibidos. Cómo actuar en caso de atragantamiento. Couching para que el BLW sea un éxito\n\nReserva pinchando aquí: Entrada individual o Entrada Pareja\n  \n
URL:https://www.liberespacio.com/eventos/taller-baby-led-weaning-recetas-bebes-sara-traver-2018-04-12/
LOCATION:C/Joaquín María López\, 25\, Madrid\, Madrid\, 28015\, España
CATEGORIES:Actividades en la librería,Taller de cocina
ATTACH;FMTTYPE=image/jpeg:https://www.liberespacio.com/wp-content/uploads/2018/03/CARTELbabyledweaning_L.jpg
ORGANIZER;CN="Librer%C3%ADa%20Liberespacio":MAILTO:info@liberespacio.com
END:VEVENT
END:VCALENDAR