BEGIN:VCALENDAR
VERSION:2.0
PRODID:-//Librería Liberespacio - ECPv4.5.13//NONSGML v1.0//EN
CALSCALE:GREGORIAN
METHOD:PUBLISH
X-WR-CALNAME:Librería Liberespacio
X-ORIGINAL-URL:https://www.liberespacio.com
X-WR-CALDESC:Events for Librería Liberespacio
BEGIN:VEVENT
DTSTART;TZID=Europe/Madrid:20241115T173000
DTEND;TZID=Europe/Madrid:20241115T183000
DTSTAMP:20260422T083740
CREATED:20241104T173803Z
LAST-MODIFIED:20241105T102737Z
UID:38419-1731691800-1731695400@www.liberespacio.com
SUMMARY:Shake\, Ratle and roll with Amy Jo
DESCRIPTION:Shake\, Ratle & roll with Amy Jo el viernes 15 de noviembre a las 17:30h.\nVen con tu baby a cantar y bailar al ritmo de canciones en inglés.\nActividad familiar especialmente orientada para bebés\,\nActividad presencial con reserva y pago anticipado para peques de 9 meses a 5 años con adulto acompañante.\n\n12€ bebé más adulto y 6€ familiar (bebé o adulto) adicional.\n Compra aquí tus entradas\n
URL:https://www.liberespacio.com/eventos/shake-ratle-and-roll-with-amy-jo/
LOCATION:C/Joaquín María López\, 25\, Madrid\, Madrid\, 28015\, España
CATEGORIES:Actividad en inglés,Actividades en la librería,Actividades infantiles,Actividades para bebés
ATTACH;FMTTYPE=image/png:https://www.liberespacio.com/wp-content/uploads/2024/11/songs-party15th-nov.png
ORGANIZER;CN="Librer%C3%ADa%20Liberespacio":MAILTO:info@liberespacio.com
END:VEVENT
END:VCALENDAR