BEGIN:VCALENDAR
VERSION:2.0
PRODID:-//Librería Liberespacio - ECPv4.5.13//NONSGML v1.0//EN
CALSCALE:GREGORIAN
METHOD:PUBLISH
X-WR-CALNAME:Librería Liberespacio
X-ORIGINAL-URL:https://www.liberespacio.com
X-WR-CALDESC:Events for Librería Liberespacio
BEGIN:VEVENT
DTSTART;TZID=Europe/Brussels:20220205T170000
DTEND;TZID=Europe/Brussels:20220205T193000
DTSTAMP:20260423T035740
CREATED:20220120T092557Z
LAST-MODIFIED:20220120T093741Z
UID:27138-1644080400-1644089400@www.liberespacio.com
SUMMARY:Scape room presencial viaje a Hogwarts
DESCRIPTION:El sábado 5 de febrero por la tarde\, apúntate al Scape room presencial Viaje a Hogwarts organizado por Liberespacio y Letrimagia\, porque…\n¡Has sido aceptado en la escuela de Hogwarts!\nNecesitarás toda tu magia para entrar a Callejón Diagón\, coger el Hogwarts Express\, y llegar a la escuela. Allí el sombrero seleccionador te clasificará.\n¡Cuidado! El que no debe ser nombrado acecha… Y el tiempo corre en tu contra. ¿Te atreves?\nNuestra sesión durará aproximadamente 1 HORA.\nActividad con reserva y plazas limitadas. Uso obligatorio de mascarilla.\n10€/mago\nRealizaremos dos sesiones:\n\n\n\n\n1ª Sesión de 17 a 18h\n\n\n2ª Sesión de 18:30 a 19:30\n\n\n\n\nDe 5 a 10 Años\n\n\nDe 8 a 12 años\n\n\n\n  Compra de entradas para la 1ª sesión\n   Compra de entradas para la 2ª sesión\n\n\n\n\nAdemás\, os invitamos a conocer la  selección de libros de Harry Potter  que hemos realizado en  Selección Harry Potter\n
URL:https://www.liberespacio.com/eventos/scape-room-presencial-viaje-a-hogwarts/
LOCATION:C/Joaquín María López\, 25\, Madrid\, Madrid\, 28015\, España
CATEGORIES:Fomento de la lectura,Taller creativo,Taller de juegos
ATTACH;FMTTYPE=image/jpeg:https://www.liberespacio.com/wp-content/uploads/2022/01/CARTELHARRY-POTTER_2022_sabado5-e1642670100956.jpg
END:VEVENT
END:VCALENDAR