BEGIN:VCALENDAR
VERSION:2.0
PRODID:-//Librería Liberespacio - ECPv4.5.13//NONSGML v1.0//EN
CALSCALE:GREGORIAN
METHOD:PUBLISH
X-WR-CALNAME:Librería Liberespacio
X-ORIGINAL-URL:https://www.liberespacio.com
X-WR-CALDESC:Events for Librería Liberespacio
BEGIN:VEVENT
DTSTART;TZID=Europe/Madrid:20211029T200000
DTEND;TZID=Europe/Madrid:20211029T213000
DTSTAMP:20260421T020959
CREATED:20211020T095908Z
LAST-MODIFIED:20211020T130124Z
UID:26019-1635537600-1635543000@www.liberespacio.com
SUMMARY:Scape Room con Lola Nuñez y Almagesto.
DESCRIPTION:El viernes 29 de octubre de 20h a 21:30h\, anticípate a la noche de Hallowwen con un Scape Room «de miedo» preparado por la escritora Lola Nuñez basado en Almagesto. La quinta Piedra.\nLa librería te atrapará.\n¿Crees que podrás escapar?\nReserva tu ejemplar de Almagesto\, la quinta piedra y conviértete en uno de los personajes de la siguiente entrega de esta saga.\nPara participar debes seguir estos pasos:\n» 1. Compra el libro Almagesto. La quinta Piedra. en nuestra librería o en nuestra página web:\n Compra aquí Almagesto\n» 2. Rellena el formulario de reserva de plaza\n\n            var ajaxurl = 'https://www.liberespacio.com/wp-admin/admin-ajax.php';\n            var smartFormsCurrentTime=new Date('Tue Apr 21 2026 02:09:59 +0000');\n            	var smartFormsUserName="";\n            	var smartFormsFirstName="";\n            	var smartFormsLastName="";\n            	var smartFormsEmail="";\n                var smartFormsPath="https://www.liberespacio.com/wp-content/plugins/smart-forms/";\n                var smartDonationsRootPath="";\n                var smartDonationsSandbox="";\n                var smartFormsAdditionalFields36=[];\n                var smartFormsDesignMode=false;\n                if(!window.smartFormsItemsToLoad)\n                    window.smartFormsItemsToLoad=new Array();                                                   \n        window.smartFormsItemsToLoad.push({ 'form_id':36\,  'elements':[{"ClassName":"rednaotextinput"\,"IsRequired":"n"\,"Formulas":{}\,"Styles":{}\,"Id":"rnField7"\,"Spacing":"col-sm-9"\,"Label":"Actividad"\,"Placeholder":"Scaperoom con Almagesto "\,"Value":""\,"ReadOnly":"y"\,"Width":""\,"Icon":{"ClassName":""}\,"CustomCSS":""\,"Placeholder_Icon":{"ClassName":""\,"Orientation":""}\,"_id":1\,"ContainerOptions":{"Id":"1"\,"Type":"single"\,"Width":-1}}\,{"ClassName":"rednaoname"\,"IsRequired":"y"\,"Formulas":{}\,"Styles":{}\,"Id":"rnField5"\,"Spacing":"col-sm-10"\,"Label":"Nombre y Apellidos"\,"FirstNamePlaceholder":"Nombre"\,"LastNamePlaceholder":"Apellidos"\,"FirstNameValue":""\,"LastNameValue":""\,"ReadOnly":"n"\,"Icon":{"ClassName":""}\,"CustomCSS":""\,"_id":2\,"ContainerOptions":{"Id":"2"\,"Type":"single"\,"Width":-1}\,"FirstNamePlaceholder_Icon":{"ClassName":""}}\,{"ClassName":"rednaonumber"\,"IsRequired":"y"\,"Formulas":{}\,"Styles":{}\,"Id":"rnField3"\,"Spacing":"col-sm-6"\,"Label":"Teléfono"\,"Placeholder":"Nº Teléfono"\,"NumberOfDecimals":0\,"MaximumValue":""\,"MinimumValue":""\,"Icon":{"ClassName":""}\,"CustomCSS":""\,"Placeholder_Icon":{"ClassName":""\,"Orientation":""}\,"_id":3\,"ContainerOptions":{"Id":"3"\,"Type":"single"\,"Width":-1}\,"Width":""\,"Decimals":0\,"Value":""}\,{"ClassName":"rednaoemail"\,"IsRequired":"y"\,"Formulas":{}\,"Styles":{}\,"Id":"rnField4"\,"Spacing":"col-sm-10"\,"Label":"Email"\,"Placeholder":"Email"\,"Icon":{"ClassName":""}\,"CustomCSS":""\,"Placeholder_Icon":{"ClassName":""\,"Orientation":""}\,"_id":4\,"ContainerOptions":{"Id":"4"\,"Type":"single"\,"Width":-1}\,"Value":""\,"ReadOnly":"n"}\,{"ClassName":"rednaotextinput"\,"IsRequired":"y"\,"Formulas":{}\,"Styles":{}\,"Id":"rnField16"\,"Spacing":"col-sm-6"\,"Label":"Nº de Ticket o Pedido web"\,"Placeholder":"Nº de cinco dígitos"\,"Value":""\,"ReadOnly":"n"\,"Width":""\,"Icon":{"ClassName":""}\,"CustomCSS":""\,"Placeholder_Icon":{"ClassName":""\,"Orientation":""}\,"_id":5\,"ContainerOptions":{"Id":"5"\,"Type":"single"\,"Width":-1}}\,{"ClassName":"rednaotextinput"\,"IsRequired":"y"\,"Formulas":{}\,"Styles":{}\,"Id":"rnField9"\,"Spacing":"col-sm-6"\,"Label":"Edad del participante"\,"Placeholder":""\,"Value":""\,"ReadOnly":"n"\,"Width":""\,"Icon":{"ClassName":""}\,"CustomCSS":""\,"Placeholder_Icon":{"ClassName":""\,"Orientation":""}\,"_id":6\,"ContainerOptions":{"Id":"6"\,"Type":"single"\,"Width":-1}}\,{"ClassName":"rednaosubmissionbutton"\,"IsRequired":"n"\,"Formulas":{}\,"Styles":{"redNaoSubmitButton":{"Scope":"1"\,"Properties":{"Color":"#120B04"\,"background-color":"#CAFF4F"}}}\,"Id":"rnField10"\,"Spacing":"col-sm-12"\,"ButtonText":"Reservar"\,"CustomCSS":""\,"Icon":{"ClassName":""}\,"Animated":"y"\,"_id":7\,"ContainerOptions":{"Id":"7"\,"Type":"single"\,"Width":-1}}]\,'client_form_options':{"JavascriptCode":[]\,"CSS":""\,"Conditions":[]\,"UsesCaptcha":"n"\,"CaptchaVersion":""\,"alert_message":"Tu reserva ha sido enviada. ¡Gracias por participar en nuestras actividades!"\,"alert_message_cb":"y"\,"DontClearForm":"n"\,"redirect_to":[{"URL":""\,"RCSettings":{"Redirect":"always"\,"ConditionSettings":[]}}]\,"redirect_to_cb":"n"\,"Campaign":""\,"PayPalEmail":""\,"PayPalCondition":{}\,"PayPalType":"donation"\,"PayPalDescription":""\,"PayPalCurrency":"USD"\,"Formulas":{}\,"InvalidInputMessage":"Por favor\, rellene todos los campos obligatorios"\,"FormType":"nor"\,"SplitSteps":{}\,"ToolTipPosition":"right"\,"Theme":"basic"\,"LabelLayout":"top"\,"Extensions":{}}\,'container':'formContainer1556932583'});\n» 3.Ven a la librería el viernes a las 20h. acompañado de tu ejemplar de Almagesto (o recógelo en la librería si lo has reservado por la web). \nEl juego consiste en ir resolviendo pistas y realizando actividades\, cada una de los cuales os llevará a la siguiente para conseguir el objetivo.\n\nAdemás\, si quieres\, puedes pedirle a la autora  que te dedique el libro.\nActividad gratuita con reserva para clientes que hayan comprado o reserven en nuestra librería el libro Almagesto.\n\nDe 10 a 12 Años (pueden venir hermanos juntos de ese rango de edad con un mismo libro). \nPlazas limitadas. (No olvides traer tu mascarilla.)\n\n
URL:https://www.liberespacio.com/eventos/scape-room-con-lola-nunez-y-almagesto/
LOCATION:C/Joaquín María López\, 25\, Madrid\, Madrid\, 28015\, España
CATEGORIES:Actividades en la librería,Actividades infantiles,Encuentros con autores y presentaciones
ATTACH;FMTTYPE=image/jpeg:https://www.liberespacio.com/wp-content/uploads/2021/10/SCAPE-ALMAGESTO_21-CUADRADO-e1634723767181.jpg
ORGANIZER;CN="Librer%C3%ADa%20Liberespacio":MAILTO:info@liberespacio.com
END:VEVENT
END:VCALENDAR