BEGIN:VCALENDAR
VERSION:2.0
PRODID:-//Librería Liberespacio - ECPv4.5.13//NONSGML v1.0//EN
CALSCALE:GREGORIAN
METHOD:PUBLISH
X-WR-CALNAME:Librería Liberespacio
X-ORIGINAL-URL:https://www.liberespacio.com
X-WR-CALDESC:Events for Librería Liberespacio
BEGIN:VEVENT
DTSTART;VALUE=DATE:20200418
DTEND;VALUE=DATE:20200503
DTSTAMP:20260425T130201
CREATED:20200318T094133Z
LAST-MODIFIED:20201021T180921Z
UID:18173-1587168000-1588550399@www.liberespacio.com
SUMMARY:Presentación virtual de Imperfectas con Violeta Monreal
DESCRIPTION:Teníamos programado en la librería la visita de nuestra amiga Violeta Monreal y tener expuestas las ilustraciones de su libro Imperfectas. Todo eso ocurrirá cuando finalicen las medidas extraordinarias por el COVID-19. Mientras tanto\, Violeta nos ha hecho dos vídeos para los clientes de Librespacio. En el primero nos cuenta cuanto le gusta como ha quedado el libro y\, en el segundo\, disponible a partir del sábado 18 de abril nos hablará de una de las mujeres “imperfectas” maravillosas que incluye en su libro y de cómo crea sus ilustraciones.\n Descarga el video de Violeta\nY aquí está el vídeo de presentación de Imperfectas:\n \nAunque este contenido es gratuito\, podéis colaborar en el sostenimiento de la librería a través de una aportación voluntaria o comprando un cheque regalo para canjearlo cuando volvamos a abrir la librería.\n\n\n\n\n Compra tu Tarjeta Regalo\n Haz tu aportación\n\n\n\n\nY si quieres comprar el libro\, ahora puedes comprarlo con un 5% de descuento:\n Quiero comprar Imperfectas.\n
URL:https://www.liberespacio.com/eventos/presentacion-virtual-de-imperfectas-con-violeta-monreal/
LOCATION:Internet
CATEGORIES:Actividades en la librería,Actividades infantiles en las redes,Encuentros con autores y presentaciones,Taller creativo
ATTACH;FMTTYPE=image/jpeg:https://www.liberespacio.com/wp-content/uploads/2020/03/9788428558242.jpg
ORGANIZER;CN="Librer%C3%ADa%20Liberespacio":MAILTO:info@liberespacio.com
END:VEVENT
END:VCALENDAR