BEGIN:VCALENDAR
VERSION:2.0
PRODID:-//Librería Liberespacio - ECPv4.5.13//NONSGML v1.0//EN
CALSCALE:GREGORIAN
METHOD:PUBLISH
X-WR-CALNAME:Librería Liberespacio
X-ORIGINAL-URL:https://www.liberespacio.com
X-WR-CALDESC:Events for Librería Liberespacio
BEGIN:VEVENT
DTSTART;TZID=UTC+0:20181124T093000
DTEND;TZID=UTC+0:20181124T143000
DTSTAMP:20260424T131634
CREATED:20181026T073035Z
LAST-MODIFIED:20181203T203415Z
UID:10207-1543051800-1543069800@www.liberespacio.com
SUMMARY:Ni un día sin cuento: Taller formativo con Pilar Serrano
DESCRIPTION:Cómo convertir a tus hijos o alumnos en futuros lectores.\nSábado 24 de noviembre de 9:30 a 14:30\n—> Compra aquí tu entrada\nDirigido a padres\, madres\, profesores estudiantes de magisterio y opositores a maestro.\n¿Qué libros poner en manos de la futura generación de lectores\, nativos digitales? En este taller podremos ver\, tocar\, disfrutar y aprender qué libros pueden ser más adecuados para fomentar el amor por la lectura\, empezando por los más pequeños.\nExplicaremos cómo contar un cuento y por qué es tan importante establecer un vínculo con los libros a través del hábito de leer y contar cuentos en familia y en la escuela. Qué recursos podemos utilizar. Cómo establecer la complicidad a través del juego narrativo.\nTambién veremos cómo a través de los cuentos es más sencilla transmitir valores\, gestionar emociones\, o estimular el aprendizaje temprano.\nImparte la profesora y escritora de libros infantiles Pilar Serrano.\nPrecio 40€ por persona \nDuración 5 horas\nActividad con reserva previa\n
URL:https://www.liberespacio.com/eventos/ni-un-dia-sin-cuento-taller-con-pilar-serrano/
LOCATION:C/Joaquín María López\, 25\, Madrid\, Madrid\, 28015\, España
CATEGORIES:Actividades en la librería
ATTACH;FMTTYPE=image/jpeg:https://www.liberespacio.com/wp-content/uploads/2018/10/TALLER_PILAR-1-e1540921674160.jpg
ORGANIZER;CN="Librer%C3%ADa%20Liberespacio":MAILTO:info@liberespacio.com
END:VEVENT
END:VCALENDAR