BEGIN:VCALENDAR
VERSION:2.0
PRODID:-//Librería Liberespacio - ECPv4.5.13//NONSGML v1.0//EN
CALSCALE:GREGORIAN
METHOD:PUBLISH
X-WR-CALNAME:Librería Liberespacio
X-ORIGINAL-URL:https://www.liberespacio.com
X-WR-CALDESC:Events for Librería Liberespacio
BEGIN:VEVENT
DTSTART;TZID=Europe/Madrid:20260104T113000
DTEND;TZID=Europe/Madrid:20260104T123000
DTSTAMP:20260421T192549
CREATED:20251217T130344Z
LAST-MODIFIED:20251217T131701Z
UID:43013-1767526200-1767529800@www.liberespacio.com
SUMMARY:New Year Songs Party
DESCRIPTION:New Year Songs Party\, Shake\, Ratle and roll with Amy Jo el domingo 4de enero de 2026 a las 11:30h.\nVen con tu baby a cantar y bailar al ritmo de canciones en inglés.\nActividad presencial con reserva y pago anticipado para peques  de 1 a 5 años con adulto acompañante.\n\n Compra aquí tu entrada \n
URL:https://www.liberespacio.com/eventos/new-year-songs-party/
LOCATION:C/Joaquín María López\, 25\, Madrid\, Madrid\, 28015\, España
CATEGORIES:Actividad en inglés,Actividades en la librería,Actividades infantiles,Actividades para bebés
ATTACH;FMTTYPE=image/png:https://www.liberespacio.com/wp-content/uploads/2025/12/SongsPartyJAN.png
ORGANIZER;CN="Librer%C3%ADa%20Liberespacio":MAILTO:info@liberespacio.com
END:VEVENT
END:VCALENDAR