BEGIN:VCALENDAR
VERSION:2.0
PRODID:-//Librería Liberespacio - ECPv4.5.13//NONSGML v1.0//EN
CALSCALE:GREGORIAN
METHOD:PUBLISH
X-WR-CALNAME:Librería Liberespacio
X-ORIGINAL-URL:https://www.liberespacio.com
X-WR-CALDESC:Events for Librería Liberespacio
BEGIN:VEVENT
DTSTART;TZID=Europe/Madrid:20200713T190000
DTEND;TZID=Europe/Madrid:20200713T200000
DTSTAMP:20260425T185738
CREATED:20200613T112239Z
LAST-MODIFIED:20200922T094839Z
UID:19773-1594666800-1594670400@www.liberespacio.com
SUMMARY:Mike Bonales nos presenta Cachito
DESCRIPTION:El lunes 13 de julio a las 19.00\, coincidiendo con su salida a la venta\, el autor e ilustrador Mike Bonales nos presentará su nuevo libro Cachito\, un álbum ilustrado que nos habla con ternura de la superación de dificultades\, editado por Nuevo Nueve y firmará ejemplares de su libro.\nLa presentación se realizará simultáneamente en la librería con aforo limitado para cumplir las limitaciones de distanciamiento social recomendadas por las autoridades sanitarias\, con motivo de la COVID-19\, y en streaming por internet\, en un canal aún por confirmar.\nDe acuerdo con la ORDEN 668/2020 de la CAM\, a la presentación sólo podrán acceder un máximo de 15 personas a la librería\, manteniendo la distancia entre cada grupo familiar de 1\,5 m\, aunque también podréis pasar por turnos para las firmas. Si el público excediera la capacidad permitida\, habrá que esperar fuera con paciencia\, como se hace en la Feria\, pero con mayor distancia entre lectores.\nTambién podéis comprar ya vuestro ejemplar a través de nuestra web e indicar en el apartado de observaciones para quién queréis que vaya dedicado. Os lo podemos enviar\, o podéis recogerlo en la librería y las compras de este libro\, efectuadas hasta el día 13/7/2020 a las 19:00h.\, incluirán una lámina preciosa firmada por el autor.\nActividad familiar gratuita con reserva.\n+ 5 Años\nReserva aquí:\n\n            var ajaxurl = 'https://www.liberespacio.com/wp-admin/admin-ajax.php';\n            var smartFormsCurrentTime=new Date('Sat Apr 25 2026 18:57:38 +0000');\n            	var smartFormsUserName="";\n            	var smartFormsFirstName="";\n            	var smartFormsLastName="";\n            	var smartFormsEmail="";\n                var smartFormsPath="https://www.liberespacio.com/wp-content/plugins/smart-forms/";\n                var smartDonationsRootPath="";\n                var smartDonationsSandbox="";\n                var smartFormsAdditionalFields37=[];\n                var smartFormsDesignMode=false;\n                if(!window.smartFormsItemsToLoad)\n                    window.smartFormsItemsToLoad=new Array();                                                   \n        window.smartFormsItemsToLoad.push({ 'form_id':37\,  'elements':[{"ClassName":"rednaotextinput"\,"IsRequired":"n"\,"Formulas":{}\,"Styles":{}\,"Id":"rnField7"\,"Spacing":"col-sm-7"\,"Label":"Actividad"\,"Placeholder":"Cantalibros con Caracolino"\,"Value":""\,"ReadOnly":"y"\,"Width":""\,"Icon":{"ClassName":""}\,"CustomCSS":""\,"Placeholder_Icon":{"ClassName":""\,"Orientation":""}\,"_id":1\,"ContainerOptions":{"Id":"1"\,"Type":"single"\,"Width":-1}}\,{"ClassName":"rednaoname"\,"IsRequired":"y"\,"Formulas":{}\,"Styles":{}\,"Id":"rnField5"\,"Spacing":"col-sm-10"\,"Label":"Nombre y Apellidos"\,"FirstNamePlaceholder":"Nombre"\,"LastNamePlaceholder":"Apellidos"\,"FirstNameValue":""\,"LastNameValue":""\,"ReadOnly":"n"\,"Icon":{"ClassName":""}\,"CustomCSS":""\,"_id":2\,"ContainerOptions":{"Id":"2"\,"Type":"single"\,"Width":-1}\,"FirstNamePlaceholder_Icon":{"ClassName":""}}\,{"ClassName":"rednaonumber"\,"IsRequired":"y"\,"Formulas":{}\,"Styles":{}\,"Id":"rnField3"\,"Spacing":"col-sm-6"\,"Label":"Teléfono"\,"Placeholder":"Nº Teléfono"\,"NumberOfDecimals":0\,"MaximumValue":""\,"MinimumValue":""\,"Icon":{"ClassName":""}\,"CustomCSS":""\,"Placeholder_Icon":{"ClassName":""\,"Orientation":""}\,"_id":3\,"ContainerOptions":{"Id":"3"\,"Type":"single"\,"Width":-1}\,"Width":""\,"Decimals":0\,"Value":""}\,{"ClassName":"rednaoemail"\,"IsRequired":"y"\,"Formulas":{}\,"Styles":{}\,"Id":"rnField4"\,"Spacing":"col-sm-10"\,"Label":"Email"\,"Placeholder":"Email"\,"Icon":{"ClassName":""}\,"CustomCSS":""\,"Placeholder_Icon":{"ClassName":""\,"Orientation":""}\,"_id":4\,"ContainerOptions":{"Id":"4"\,"Type":"single"\,"Width":-1}\,"Value":""\,"ReadOnly":"n"}\,{"ClassName":"rednaotextinput"\,"IsRequired":"y"\,"Formulas":{}\,"Styles":{}\,"Id":"rnField16"\,"Spacing":"col-sm-6"\,"Label":"Niños + Adultos"\,"Placeholder":"N Niños + A Adultos"\,"Value":""\,"ReadOnly":"n"\,"Width":""\,"Icon":{"ClassName":""}\,"CustomCSS":""\,"Placeholder_Icon":{"ClassName":""\,"Orientation":""}\,"_id":5\,"ContainerOptions":{"Id":"5"\,"Type":"single"\,"Width":-1}}\,{"_id":44\,"ClassName":"rednaoprependedcheckbox"\,"IsRequired":"n"\,"Formulas":{}\,"Styles":{}\,"ContainerOptions":{"Width":-1\,"Id":"44"\,"Type":"single"}\,"Id":"rnField20"\,"Spacing":"col-sm-12"\,"Label":"¿Quieres suscribirte a nuestra newsletter?"\,"Placeholder":""\,"IsChecked":"n"\,"Value":"Sí. Autorizo a Liberespacio a enviarme comunicaciones por correo electrónico a la dirección de e-mail arriba indicada"\,"Width":""\,"CustomCSS":""\,"Placeholder_Icon":{"ClassName":""\,"Orientation":""}}\,{"ClassName":"rednaosubmissionbutton"\,"IsRequired":"n"\,"Formulas":{}\,"Styles":{"redNaoSubmitButton":{"Scope":"1"\,"Properties":{"Color":"#120B04"\,"background-color":"#CAFF4F"}}}\,"Id":"rnField10"\,"Spacing":"col-sm-12"\,"ButtonText":"Reservar"\,"CustomCSS":""\,"Icon":{"ClassName":""}\,"Animated":"y"\,"_id":7\,"ContainerOptions":{"Id":"7"\,"Type":"single"\,"Width":-1}}]\,'client_form_options':{"JavascriptCode":[]\,"CSS":""\,"Conditions":[]\,"UsesCaptcha":"n"\,"CaptchaVersion":""\,"alert_message":"Tu reserva ha sido enviada. ¡Gracias por participar en nuestras actividades.!"\,"alert_message_cb":"y"\,"DontClearForm":"n"\,"redirect_to":[{"URL":""\,"RCSettings":{"Redirect":"always"\,"ConditionSettings":[]}}]\,"redirect_to_cb":"n"\,"Campaign":""\,"PayPalEmail":""\,"PayPalCondition":{}\,"PayPalType":"donation"\,"PayPalDescription":""\,"PayPalCurrency":"USD"\,"Formulas":{}\,"InvalidInputMessage":"Por favor\, rellene todos los campos obligatorios"\,"FormType":"nor"\,"SplitSteps":{}\,"ToolTipPosition":"right"\,"Theme":"basic"\,"LabelLayout":"top"\,"Extensions":{}}\,'container':'formContainer1556531195'});\n  \n  \n
URL:https://www.liberespacio.com/eventos/mike-bonales-nos-presenta-cachito/
CATEGORIES:Actividades en la librería,Encuentros con autores y presentaciones
ATTACH;FMTTYPE=image/jpeg:https://www.liberespacio.com/wp-content/uploads/2020/06/978841798940-e1593546896605.jpg
END:VEVENT
END:VCALENDAR