BEGIN:VCALENDAR
VERSION:2.0
PRODID:-//Librería Liberespacio - ECPv4.5.13//NONSGML v1.0//EN
CALSCALE:GREGORIAN
METHOD:PUBLISH
X-WR-CALNAME:Librería Liberespacio
X-ORIGINAL-URL:https://www.liberespacio.com
X-WR-CALDESC:Events for Librería Liberespacio
BEGIN:VEVENT
DTSTART;TZID=UTC+0:20171122T180000
DTEND;TZID=UTC+0:20171122T190000
DTSTAMP:20260425T122615
CREATED:20170922T163049Z
LAST-MODIFIED:20171204T153845Z
UID:6579-1511373600-1511377200@www.liberespacio.com
SUMMARY:Los miércoles por la tarde contamos cuentos infantiles
DESCRIPTION:Los miércoles de noviembre continúan nuestras sesiones de cuentos infantiles contados.\nVen a Liberespacio a descubrir fantásticas historias en familia. Cada miércoles contaremos un álbum ilustrado diferente. Así\, los niños disfrutan en compañía de sus padres y madres de buenos cuentos seleccionados\, que les estimulan la imaginación\, la creatividad y les enseñan cosas importantes para la vida. Además al finalizar el cuento realizarán alguna actividad creativa relacionada con la historia que se ha contado.\n\nACTIVIDAD FAMILIAR GRATUITA HASTA COMPLETAR AFORO\n+ 4 AÑOS\n  \n
URL:https://www.liberespacio.com/eventos/los-miercoles-por-la-tarde-contamos-cuentos-infantiles-2017-11-22/
LOCATION:C/Joaquín María López\, 25\, Madrid\, Madrid\, 28015\, España
CATEGORIES:Actividades en la librería
ATTACH;FMTTYPE=image/jpeg:https://www.liberespacio.com/wp-content/uploads/2017/07/miercoles-cuentan_18.jpg
ORGANIZER;CN="Librer%C3%ADa%20Liberespacio":MAILTO:info@liberespacio.com
END:VEVENT
END:VCALENDAR