BEGIN:VCALENDAR
VERSION:2.0
PRODID:-//Librería Liberespacio - ECPv4.5.13//NONSGML v1.0//EN
CALSCALE:GREGORIAN
METHOD:PUBLISH
X-WR-CALNAME:Librería Liberespacio
X-ORIGINAL-URL:https://www.liberespacio.com
X-WR-CALDESC:Events for Librería Liberespacio
BEGIN:VEVENT
DTSTART;TZID=UTC+0:20180919T180000
DTEND;TZID=UTC+0:20180919T190000
DTSTAMP:20260420T205824
CREATED:20180819T160052Z
LAST-MODIFIED:20181001T174930Z
UID:9471-1537380000-1537383600@www.liberespacio.com
SUMMARY:Los miércoles contamos cuentos
DESCRIPTION:Miércoles 19 de septiembre  18:00\nNueva sesión de cuentos contados en Liberespacio.\nVen a Liberespacio a descubrir fantásticas historias en familia. Cada miércoles contaremos un álbum ilustrado diferente. Así\, los niños disfrutan en compañía de sus padres y madres de buenos cuentos seleccionados\, que les estimulan la imaginación\, la creatividad y les enseñan cosas importantes para la vida. Además\, al finalizar el cuento realizarán alguna actividad creativa relacionada con la historia que se ha contado.\nEste miércoles vuelve  nuestra querida Andrea que nos contará: ¡Mira otra vez! un álbum ilustrado con el que nos divertiremos jugando con los contrarios.\n ACTIVIDAD FAMILIAR SIN RESERVA HASTA COMPLETAR AFORO\n3€/niñ* reembolsables con compras de precio igual o superior. (Gratuito para clientes con compras recientes en nuestra librería)\n+ 4 AÑOS\n
URL:https://www.liberespacio.com/eventos/los-miercoles-contamos-cuentos/
LOCATION:C/Joaquín María López\, 25\, Madrid\, Madrid\, 28015\, España
CATEGORIES:Actividades en la librería
ATTACH;FMTTYPE=image/jpeg:https://www.liberespacio.com/wp-content/uploads/2018/08/cuento-miercoles-copia-e1535393989300.jpg
ORGANIZER;CN="Librer%C3%ADa%20Liberespacio":MAILTO:info@liberespacio.com
END:VEVENT
END:VCALENDAR