BEGIN:VCALENDAR
VERSION:2.0
PRODID:-//Librería Liberespacio - ECPv4.5.13//NONSGML v1.0//EN
CALSCALE:GREGORIAN
METHOD:PUBLISH
X-WR-CALNAME:Librería Liberespacio
X-ORIGINAL-URL:https://www.liberespacio.com
X-WR-CALDESC:Events for Librería Liberespacio
BEGIN:VEVENT
DTSTART;TZID=UTC+0:20180926T180000
DTEND;TZID=UTC+0:20180926T190000
DTSTAMP:20260422T104836
CREATED:20180826T160045Z
LAST-MODIFIED:20181001T175440Z
UID:9474-1537984800-1537988400@www.liberespacio.com
SUMMARY:Los miércoles contamos cuentos
DESCRIPTION:Miércoles 26 de septiembre  18:00\nNueva sesión de cuentos contados en Liberespacio.\nVen a Liberespacio a descubrir fantásticas historias en familia. Cada miércoles contaremos un álbum ilustrado diferente. Así\, los niños disfrutan en compañía de sus padres y madres de buenos cuentos seleccionados\, que les estimulan la imaginación\, la creatividad y les enseñan cosas importantes para la vida. Además\, al finalizar el cuento realizarán alguna actividad creativa relacionada con la historia que se ha contado.\n ACTIVIDAD FAMILIAR SIN RESERVA HASTA COMPLETAR AFORO\n3€/niñ@ reembolsables con compras de precio igual o superior.\n+ 4 AÑOS\n
URL:https://www.liberespacio.com/eventos/los-miercoles-contamos-cuentos-26-09-2018/
LOCATION:C/Joaquín María López\, 25\, Madrid\, Madrid\, 28015\, España
CATEGORIES:Actividades en la librería
ATTACH;FMTTYPE=image/jpeg:https://www.liberespacio.com/wp-content/uploads/2018/08/cuento-miercoles-copia-e1535393989300.jpg
ORGANIZER;CN="Librer%C3%ADa%20Liberespacio":MAILTO:info@liberespacio.com
END:VEVENT
END:VCALENDAR