BEGIN:VCALENDAR
VERSION:2.0
PRODID:-//Librería Liberespacio - ECPv4.5.13//NONSGML v1.0//EN
CALSCALE:GREGORIAN
METHOD:PUBLISH
X-WR-CALNAME:Librería Liberespacio
X-ORIGINAL-URL:https://www.liberespacio.com
X-WR-CALDESC:Events for Librería Liberespacio
BEGIN:VEVENT
DTSTART;VALUE=DATE:20220317
DTEND;VALUE=DATE:20220317
DTSTAMP:20260420T210852
CREATED:20220314T125430Z
LAST-MODIFIED:20220314T125504Z
UID:27775-1647475200-1647561599@www.liberespacio.com
SUMMARY:Los jueves\, cuentos con Andrea en nuestro canal de YouTube
DESCRIPTION:El jueves 17 de marzo subimos una nueva sesión de cuentos en  nuestro canal de youtube. –>¡Suscribiros a nuestro canal de Liberespacio!.\nEn esta sesión celebramos el Día del Padre  y contaremos libros con papás como protagonistas.\n \nTambién hemos preparado esta semana en la librería una selección de libros y juegos para el día del padre y podéis consultar nuestra selección en internet.\n Consulta aquí nuestra selección de libros para el Día Internacional de la mujer\n Actividad virtual gratuita.\n\n+ 3 Años\n
URL:https://www.liberespacio.com/eventos/los-jueves-cuentos-con-andrea-en-nuestro-canal-de-youtube-dia-del-padre/
LOCATION:Internet
CATEGORIES:Actividades infantiles,Actividades infantiles en las redes,Cuentacuentos
ATTACH;FMTTYPE=image/jpeg:https://www.liberespacio.com/wp-content/uploads/2021/06/cuentos-youtube-e1623776871802.jpg
ORGANIZER;CN="Librer%C3%ADa%20Liberespacio":MAILTO:info@liberespacio.com
END:VEVENT
END:VCALENDAR