BEGIN:VCALENDAR
VERSION:2.0
PRODID:-//Librería Liberespacio - ECPv4.5.13//NONSGML v1.0//EN
CALSCALE:GREGORIAN
METHOD:PUBLISH
X-WR-CALNAME:Librería Liberespacio
X-ORIGINAL-URL:https://www.liberespacio.com
X-WR-CALDESC:Events for Librería Liberespacio
BEGIN:VEVENT
DTSTART;TZID=Europe/Brussels:20190608T113000
DTEND;TZID=Europe/Brussels:20190608T123000
DTSTAMP:20260420T210108
CREATED:20190508T093037Z
LAST-MODIFIED:20190709T174715Z
UID:12971-1559993400-1559997000@www.liberespacio.com
SUMMARY:Leemos en Familia
DESCRIPTION:\n\n\n\n –> Compra aquí tus entradas.\n\nSábado 8  de junio a las 11:30.\nDuración aproximada de 1 hora.\nDirigida  a familias con niños de entre 9 meses y 3 años\n7€ Niño+Adulto/ 4€ familiar adicional\nPlazas limitadas.\nActividad con reserva y pago anticipado\n  –> Compra aquí tus entradas.\n \n\n\n \n\n  Un espacio de encuentro para disfrutar de los libros orientados a bebés y descubrir los interesantes recursos que nos ofrecen para estimular sus sentidos y su desarrollo cognitivo y emocional.\nImpartido por Teresa Corchete especialista en diseño y ejecución de programas dirigidos a primeras edades y familias.\nEn esta sesión nos contará:\n\n\nCuatro romances (A buen paso)\n\n\nTras tras (Combel)\n\n\nEl cerezo (la fragatina)\n\n\nHistorias de ratones (Kalandraka)\n\n\nEstaba la rana (Ekaré)\n\n\nGracias Señor viento! (Fondo de Cultura Económica)\n\n\nNadarín (Kalandraka)\n\n\n\n\n\n\n\n\n\n
URL:https://www.liberespacio.com/eventos/leemos-en-familia-8-6-2019/
LOCATION:C/Joaquín María López\, 25\, Madrid\, Madrid\, 28015\, España
CATEGORIES:Actividades en la librería,Fomento de la lectura
ATTACH;FMTTYPE=image/jpeg:https://www.liberespacio.com/wp-content/uploads/2019/05/leemos-en-familia-junio.jpg
ORGANIZER;CN="Librer%C3%ADa%20Liberespacio":MAILTO:info@liberespacio.com
END:VEVENT
END:VCALENDAR