BEGIN:VCALENDAR
VERSION:2.0
PRODID:-//Librería Liberespacio - ECPv4.5.13//NONSGML v1.0//EN
CALSCALE:GREGORIAN
METHOD:PUBLISH
X-WR-CALNAME:Librería Liberespacio
X-ORIGINAL-URL:https://www.liberespacio.com
X-WR-CALDESC:Events for Librería Liberespacio
BEGIN:VEVENT
DTSTART;TZID=Europe/Brussels:20191004T173000
DTEND;TZID=Europe/Brussels:20191004T183000
DTSTAMP:20260422T122744
CREATED:20190904T153245Z
LAST-MODIFIED:20191104T192051Z
UID:14309-1570210200-1570213800@www.liberespacio.com
SUMMARY:Leemos en Familia
DESCRIPTION:\n\n\n\n –> Compra aquí tus entradas.\n\nViernes 4 de octubre a las 17:30.\nDuración aproximada de 1 hora.\nDirigida  a familias con niños de entre 9 meses y 3 años\n7€ Niño+Adulto/ 4€ familiar adicional\nPlazas limitadas.\nActividad con reserva y pago anticipado\n  –> Compra aquí tus entradas.\n \n\n\n \n\n  Un espacio de encuentro para disfrutar de los libros orientados a bebés y descubrir los interesantes recursos que nos ofrecen para estimular sus sentidos y su desarrollo cognitivo y emocional.\nImpartido por Teresa Corchete especialista en diseño y ejecución de programas dirigidos a primeras edades y familias.\nEn esta sesión el tema será Antes\, después… ¡Magia! y trabajaremos con los libros:\nAntes y después de Combel\nEl cucu-trás mágico de SM\nCuatro romances  de A buen paso\nLa oficina de objetos perdidos de ed. juventud\n¡Magia! de Océano\nLos calcetines de Lóguez\n  \n  \n  \n\n\n\n\n\n\n\n
URL:https://www.liberespacio.com/eventos/leemos-en-familia-4-10-2019/
LOCATION:C/Joaquín María López\, 25\, Madrid\, Madrid\, 28015\, España
CATEGORIES:Actividades en la librería,Fomento de la lectura
ATTACH;FMTTYPE=image/jpeg:https://www.liberespacio.com/wp-content/uploads/2019/09/familiaslectoras_oct-copia-e1569833375815.jpg
ORGANIZER;CN="Librer%C3%ADa%20Liberespacio":MAILTO:info@liberespacio.com
END:VEVENT
END:VCALENDAR