BEGIN:VCALENDAR
VERSION:2.0
PRODID:-//Librería Liberespacio - ECPv4.5.13//NONSGML v1.0//EN
CALSCALE:GREGORIAN
METHOD:PUBLISH
X-WR-CALNAME:Librería Liberespacio
X-ORIGINAL-URL:https://www.liberespacio.com
X-WR-CALDESC:Events for Librería Liberespacio
BEGIN:VEVENT
DTSTART;TZID=Europe/Brussels:20190125T173000
DTEND;TZID=Europe/Brussels:20190125T183000
DTSTAMP:20260420T210036
CREATED:20181225T163135Z
LAST-MODIFIED:20190207T192635Z
UID:11008-1548437400-1548441000@www.liberespacio.com
SUMMARY:Leemos en Familia
DESCRIPTION:\n\n\n\n –> Compra ya tus entradas aquí\nViernes 25 de enero a las 17:30.\nDuración aproximada de 1 hora.\nDirigida  a familias con niños de entre 9 meses y 3 años\n7€ Niño+Adulto/ 4€ familiar adicional\nPlazas limitadas.\nActividad con reserva y pago anticipado\n — > Compra ya tus entradas aquí\n\n\n \n\n  Un espacio de encuentro para disfrutar de los libros orientados a bebés y descubrir los interesantes recursos que nos ofrecen para estimular sus sentidos y su desarrollo cognitivo y emocional.\nImpartido por Teresa Corchete especialista en diseño y ejecución de programas dirigidos a primeras edades y familias.\nEl tema de esta sesión será Los Amigos y para la sesión hemos seleccionado:\nCuervo de Algar\nMis amigos de Blackie Books\n¿Amigos? de Kókinos\nPequeño azul\, pequeño amarillo\, de Kalandraka\nUn mar de tristeza\, de Kókinos\n\n\n\n\n\n\n\n
URL:https://www.liberespacio.com/eventos/leemos-en-familia-25-01-2019/
LOCATION:C/Joaquín María López\, 25\, Madrid\, Madrid\, 28015\, España
CATEGORIES:Actividades en la librería,Fomento de la lectura
ATTACH;FMTTYPE=image/jpeg:https://www.liberespacio.com/wp-content/uploads/2018/12/Leemos_enero19.jpg
ORGANIZER;CN="Librer%C3%ADa%20Liberespacio":MAILTO:info@liberespacio.com
END:VEVENT
END:VCALENDAR