BEGIN:VCALENDAR
VERSION:2.0
PRODID:-//Librería Liberespacio - ECPv4.5.13//NONSGML v1.0//EN
CALSCALE:GREGORIAN
METHOD:PUBLISH
X-WR-CALNAME:Librería Liberespacio
X-ORIGINAL-URL:https://www.liberespacio.com
X-WR-CALDESC:Events for Librería Liberespacio
BEGIN:VEVENT
DTSTART;TZID=UTC+0:20181123T173000
DTEND;TZID=UTC+0:20181123T183000
DTSTAMP:20260420T210031
CREATED:20181023T150719Z
LAST-MODIFIED:20181203T203456Z
UID:10166-1542994200-1542997800@www.liberespacio.com
SUMMARY:Leemos en Familia
DESCRIPTION:\n\n\n\nCompra ya tus entradas aquí\nViernes 23 de noviembre a las 17:30.\nDuración aproximada de 1 hora.\nDirigida  a familias con niños de entre 9 meses y 3 años\n7€ Niño+Adulto/ 4€ familiar adicional\nPlazas limitadas.\nActividad con reserva y pago anticipado\nCompra ya tus entradas aquí\n\n\n \n\n  Un espacio de encuentro para disfrutar de los libros orientados a bebés y descubrir los interesantes recursos que nos ofrecen para estimular sus sentidos y su desarrollo cognitivo y emocional.\nImpartido por Teresa Corchete especialista en diseño y ejecución de programas dirigidos a primeras edades y familias.\n En esta sesión el tema de trabajo será Cantar\, contar y trabajaremos con estos títulos:\nCinco (Kalandraka)\nPor el Camino (Kalandraka)\nDiez Gallinas (Edelvives)\nContando con el gato Chiqui (Mil razones)\nTodo a punto (Combel)\n\n\n\n\n\n\n
URL:https://www.liberespacio.com/eventos/leemos-en-familia-23-11-2018/
LOCATION:C/Joaquín María López\, 25\, Madrid\, Madrid\, 28015\, España
CATEGORIES:Actividades en la librería,Fomento de la lectura
ATTACH;FMTTYPE=image/jpeg:https://www.liberespacio.com/wp-content/uploads/2018/10/Leemos-en-familia-noviembre.jpg
ORGANIZER;CN="Librer%C3%ADa%20Liberespacio":MAILTO:info@liberespacio.com
END:VEVENT
END:VCALENDAR