BEGIN:VCALENDAR
VERSION:2.0
PRODID:-//Librería Liberespacio - ECPv4.5.13//NONSGML v1.0//EN
CALSCALE:GREGORIAN
METHOD:PUBLISH
X-WR-CALNAME:Librería Liberespacio
X-ORIGINAL-URL:https://www.liberespacio.com
X-WR-CALDESC:Events for Librería Liberespacio
BEGIN:VEVENT
DTSTART;TZID=UTC+0:20180504T173000
DTEND;TZID=UTC+0:20180504T183000
DTSTAMP:20260424T092041
CREATED:20180404T153037Z
LAST-MODIFIED:20180531T093207Z
UID:8576-1525455000-1525458600@www.liberespacio.com
SUMMARY:Leemos en Familia
DESCRIPTION:\n\n\n\nCompra ya tus entradas aquí\nViernes 4 de mayo a las 17:30.\nDuración aproximada de 1 hora.\nDirigida  a familias con niños de entre 9 meses y 3 años\n6€ Niño+Adulto/ 3€ familiar adicional\nPlazas limitadas.\nActividad con reserva y pago anticipado\nCompra ya tus entradas aquí\n\n\n \n\n  Un espacio de encuentro para disfrutar de los libros orientados a bebés y descubrir los interesantes recursos que nos ofrecen para estimular sus sentidos y su desarrollo cognitivo y emocional.\nImpartido por Teresa Corchete especialista en diseño y ejecución de programas dirigidos a primeras edades y familias.\nEn esta sesión el tema central será: \nMamás de cuento\nY ahora disfruta de esta actividad a mitad de precio al haber sido subvencionada por el Ayuntamiento de Madrid.\n \n\n\n\n\n\n
URL:https://www.liberespacio.com/eventos/leemos-en-familia-2018-05-04/
LOCATION:C/Joaquín María López\, 25\, Madrid\, Madrid\, 28015\, España
CATEGORIES:Actividades en la librería,Fomento de la lectura
ATTACH;FMTTYPE=image/jpeg:https://www.liberespacio.com/wp-content/uploads/2018/04/leemos_mayo18.jpg
ORGANIZER;CN="Librer%C3%ADa%20Liberespacio":MAILTO:info@liberespacio.com
END:VEVENT
END:VCALENDAR