BEGIN:VCALENDAR
VERSION:2.0
PRODID:-//Librería Liberespacio - ECPv4.5.13//NONSGML v1.0//EN
CALSCALE:GREGORIAN
METHOD:PUBLISH
X-WR-CALNAME:Librería Liberespacio
X-ORIGINAL-URL:https://www.liberespacio.com
X-WR-CALDESC:Events for Librería Liberespacio
BEGIN:VEVENT
DTSTART;TZID=Europe/Brussels:20190426T173000
DTEND;TZID=Europe/Brussels:20190426T183000
DTSTAMP:20260425T122009
CREATED:20190326T160037Z
LAST-MODIFIED:20190506T184614Z
UID:12243-1556299800-1556303400@www.liberespacio.com
SUMMARY:La noche de los libros 2019. Taller Leemos en Familia
DESCRIPTION:\n\n\n\nViernes 26 de abril a las 17:30.\nDuración aproximada de 1 hora.\nDirigida  a familias con niños de entre 9 meses y 3 años\nSesión especial gratuita para La noche de los libros 2019.\nPlazas limitadas.\nPara que puedan disfrutar de esta sesión gratuita el máximo número posible de niños y niñas\, os rogamos que vengáis sólo un adulto por niño.\nActividad con reserva.\nAFORO COMPLETO\n  \n  \n  \n  \n \n\n\n \n\n  Taller de narración y creación para familias. Diseñado a partir de álbumes ilustrados infantiles\, seleccionados para facilitar los primeros acercamientos a los libros y descubrir el sentido de las palabras. ritmos\, poesías\, canciones y juegos para disfrutar todos juntos de los contenidos.\nImpartido por Teresa Corchete especialista en diseño y ejecución de programas dirigidos a primeras edades y familias.\nEl tema de esta sesión será LO IMPRESCINDIBLE\nAdemás\, con ocasión del Día del Libro\, Teresa nos ha preparado una selección de libros infantiles «imprescindibles». Descárgate aquí la versión en PDF\n  \n\n\n\n\n\n\n\n
URL:https://www.liberespacio.com/eventos/la-noche-de-los-libros-2019-taller-leemos-en-familia/
LOCATION:C/Joaquín María López\, 25\, Madrid\, Madrid\, 28015\, España
CATEGORIES:Actividades en la librería,Fomento de la lectura
ATTACH;FMTTYPE=image/jpeg:https://www.liberespacio.com/wp-content/uploads/2019/03/NOCHE_LIBROS_LEEMOS_FAMILIA-e1553951020908.jpg
ORGANIZER;CN="Librer%C3%ADa%20Liberespacio":MAILTO:info@liberespacio.com
END:VEVENT
END:VCALENDAR