BEGIN:VCALENDAR
VERSION:2.0
PRODID:-//Librería Liberespacio - ECPv4.5.13//NONSGML v1.0//EN
CALSCALE:GREGORIAN
METHOD:PUBLISH
X-WR-CALNAME:Librería Liberespacio
X-ORIGINAL-URL:https://www.liberespacio.com
X-WR-CALDESC:Events for Librería Liberespacio
BEGIN:VEVENT
DTSTART;TZID=Europe/Brussels:20220203T170000
DTEND;TZID=Europe/Brussels:20220203T210000
DTSTAMP:20260423T040843
CREATED:20220119T173856Z
LAST-MODIFIED:20220119T191121Z
UID:27115-1643907600-1643922000@www.liberespacio.com
SUMMARY:La noche de los libros de Harry Potter 2022
DESCRIPTION:\n\n\n\nLa Noche de Harry Potter 2022\nJueves 3 de febrero a partir de las 17:00 \nActividad con reserva y plazas limitadas\n\nEste año\, dado que hemos reducido el aforo por el COVID-19\, la fiesta se celebrará en 5 sesiones de 30 minutos\, por rangos de edad:\n1ª sesión de 17:00 a 17:30 de 3 a 6 años acompañados de un adulto.\n Entrada para la 1ª sesión\n2ª sesión de 17:45 a 18:15 de 5 a 10 años\n Entrada para la 2ª sesión\n3ª sesión de 18:30 a 19:00 de 5 a 10 años\n Entrada para la 3ª sesión\n4ª sesión de 19:15 a 19:45 de 10 a 14 años\n Entrada para la 4ª sesión\n5ª sesión a las 20:00 para adultos\n Entrada para la  sesión de adultos\n                             3€ /mago\n\n\nEl jueves 3 de febrero se celebra el evento mundial La noche de Harry Potter 2022. Este año el tema es Viajes mágicos.\nComo en años anteriores\, Liberespacio se suma a este evento con actividades para todas las edades  con juegos y sorpresas relacionadas con el mundo de Harry Potter\, con la colaboración para el evento de Letrimagia.\nLas actividades serán presenciales aunque\, debido a la situación sanitaria\, la realizaremos en una sala con ventilación y aforo limitado\, con reserva previa y uso obligatorio de mascarilla.\nPodéis venir disfrazados de vuestros personajes favoritos.\nAdemás\, os invitamos a conocer la  selección de libros de Harry Potter  que hemos realizado en  Selección Harry Potter\n\n\n\n\n\n
URL:https://www.liberespacio.com/eventos/la-noche-de-harry-potter-2022/
LOCATION:C/Joaquín María López\, 25\, Madrid\, Madrid\, 28015\, España
CATEGORIES:Fomento de la lectura,Taller creativo,Taller de juegos
ATTACH;FMTTYPE=image/jpeg:https://www.liberespacio.com/wp-content/uploads/2022/01/CARTELHARRY-POTTER_2022_Jueves3-e1642614083192.jpg
END:VEVENT
END:VCALENDAR