BEGIN:VCALENDAR
VERSION:2.0
PRODID:-//Librería Liberespacio - ECPv4.5.13//NONSGML v1.0//EN
CALSCALE:GREGORIAN
METHOD:PUBLISH
X-WR-CALNAME:Librería Liberespacio
X-ORIGINAL-URL:https://www.liberespacio.com
X-WR-CALDESC:Events for Librería Liberespacio
BEGIN:VEVENT
DTSTART;TZID=Europe/Madrid:20190424T170000
DTEND;TZID=Europe/Madrid:20190424T180000
DTSTAMP:20260421T002712
CREATED:20190324T160054Z
LAST-MODIFIED:20190506T184550Z
UID:12537-1556125200-1556128800@www.liberespacio.com
SUMMARY:Hablamos de literatura infantil con Luis Matilla y Eva Llergo
DESCRIPTION:\n\n\n\n\n\nEl Miércoles 24 de abril a las 17:00\nen el marco de las jornadas Aprendiendo a vivir\, de Literatura infantil\, organizadas por Educación Literaria y literatura infantil\, con motivo del día del libro\, celebraremos un encuentro debate sobre literatura infantil\, en nuestra librería\, con los autores Luis Matilla y Eva Llergo.\nActividad gratuita hasta completar aforo.\n–> Consulta aquí el programa de las jornadas\n \n\n\n \n \n\n\n\n\n\n  \n  \n  \n
URL:https://www.liberespacio.com/eventos/hablamos-de-literatura-infantil-con-luis-matilla-y-eva-llergo/
LOCATION:C/Joaquín María López\, 25\, Madrid\, Madrid\, 28015\, España
CATEGORIES:Actividades en la librería,Encuentros con autores y presentaciones
ATTACH;FMTTYPE=image/jpeg:https://www.liberespacio.com/wp-content/uploads/2019/04/literaturainfantil.jpg
ORGANIZER;CN="Librer%C3%ADa%20Liberespacio":MAILTO:info@liberespacio.com
END:VEVENT
END:VCALENDAR