BEGIN:VCALENDAR
VERSION:2.0
PRODID:-//Librería Liberespacio - ECPv4.5.13//NONSGML v1.0//EN
CALSCALE:GREGORIAN
METHOD:PUBLISH
X-WR-CALNAME:Librería Liberespacio
X-ORIGINAL-URL:https://www.liberespacio.com
X-WR-CALDESC:Events for Librería Liberespacio
BEGIN:VEVENT
DTSTART;TZID=Europe/Madrid:20210619T113000
DTEND;TZID=Europe/Madrid:20210619T130000
DTSTAMP:20260421T020833
CREATED:20210615T165851Z
LAST-MODIFIED:20210615T173147Z
UID:24784-1624102200-1624107600@www.liberespacio.com
SUMMARY:Firma de libros con Susana Rosique
DESCRIPTION:El sábado 19 de junio  de 11:30 a 13 h. la ilustradora Susana Rosique\, estará firmando en nuestra librería   su nuevo libro Singular y el resto de sus libros. Singular es un álbum ilustrado que nos ha gustado por como nos invita a pensar diferente para avanzar y crecer\, y no perder nunca las ganas de innovar y buscar \, el libro se completa con una divertida ilustración que juega rítmicamente con el texto.\nActividad sin reserva\,  respetando las medidas de distanciamiento recomendadas\, exclusiva para clientes que hayan comprado o vayan a comprar el libro en nuestra librería o página web.\n+ 3 Años.\nSi no puedes asistir a la firma\, puedes comprarlos en nuestra página web antes de las 11h del día 19\, y lo enviamos dedicado. Para ello debes indicar en el campo observaciones del pedido a quién va dedicado.\nPuedes comprar Singular aquí:\n Quiero comprar Singular\nTambién puedes comprar otros libros de la autora: \n Quiero comprar libros de Susana Rosique\n  \n  \n
URL:https://www.liberespacio.com/eventos/firma-de-libros-con-susana-rosique/
LOCATION:C/Joaquín María López\, 25\, Madrid\, Madrid\, 28015\, España
CATEGORIES:Actividades en la librería,Actividades infantiles,Encuentros con autores y presentaciones
ATTACH;FMTTYPE=image/jpeg:https://www.liberespacio.com/wp-content/uploads/2021/06/cartel-a-imprimir-firma-Singular-Liberespacio-e1623776318412.jpg
ORGANIZER;CN="Librer%C3%ADa%20Liberespacio":MAILTO:info@liberespacio.com
END:VEVENT
END:VCALENDAR