BEGIN:VCALENDAR
VERSION:2.0
PRODID:-//Librería Liberespacio - ECPv4.5.13//NONSGML v1.0//EN
CALSCALE:GREGORIAN
METHOD:PUBLISH
X-WR-CALNAME:Librería Liberespacio
X-ORIGINAL-URL:https://www.liberespacio.com
X-WR-CALDESC:Events for Librería Liberespacio
BEGIN:VEVENT
DTSTART;TZID=Europe/Madrid:20251229T120000
DTEND;TZID=Europe/Madrid:20251229T130000
DTSTAMP:20260421T194131
CREATED:20251210T112552Z
LAST-MODIFIED:20251210T113108Z
UID:42938-1767009600-1767013200@www.liberespacio.com
SUMMARY:Espectáculo Naticlown
DESCRIPTION:El lunes 29 de diciembre a las 12h. Vuelve la payasa TuttiFrutti a contar historias navideñas con marionetas\, canciones y personajes de fantasía geniales para esta temporada de ilusión y magia.\nActividad familiar con reserva y pago anticipado\nDe 3 a 6 años acompañados de un adulto.\n12€ peque más adulto y 6€ familiar (peque o adulto) adicional.\nDuración aproximada 50 minutos.\n Compra aquí tus entradas \n
URL:https://www.liberespacio.com/eventos/espectaculo-naticlown/
LOCATION:C/Joaquín María López\, 25\, Madrid\, Madrid\, 28015\, España
CATEGORIES:Actividades en la librería,Actividades infantiles
ATTACH;FMTTYPE=image/png:https://www.liberespacio.com/wp-content/uploads/2025/12/teatroNAVIDAD.png
ORGANIZER;CN="Librer%C3%ADa%20Liberespacio":MAILTO:info@liberespacio.com
END:VEVENT
END:VCALENDAR