BEGIN:VCALENDAR
VERSION:2.0
PRODID:-//Librería Liberespacio - ECPv4.5.13//NONSGML v1.0//EN
CALSCALE:GREGORIAN
METHOD:PUBLISH
X-WR-CALNAME:Librería Liberespacio
X-ORIGINAL-URL:https://www.liberespacio.com
X-WR-CALDESC:Events for Librería Liberespacio
BEGIN:VEVENT
DTSTART;TZID=Europe/Madrid:20220228T113000
DTEND;TZID=Europe/Madrid:20220228T123000
DTSTAMP:20260422T122553
CREATED:20220222T110256Z
LAST-MODIFIED:20220222T110256Z
UID:27543-1646047800-1646051400@www.liberespacio.com
SUMMARY:Escape Room LA BÚSQUEDA DEL TESORO
DESCRIPTION:El lunes 28 de febrero a las 11:30h. Aprovecha que no hay cole y apúntate a nuestro Escape room en la librería\, participarás en la búsqueda del Diario definitivo con Cecilia Alonso autora de la Trilogía Cachitos de Mi Vida. Acompaña a Antxón el Zombi\, Noa la Pelos y Rober el Vivo en sus aventuras.\nOs animamos a disfrutar de una actividad creativa que fomenta la lectura\, el ingenio\, el trabajo en equipo. Por medio de adivinanzas y juegos de lógica los participantes encontraran las pistas para seguir el mapa que los llevará a encontrar el tesoro de nuestra búsqueda\nLa sesión durará aproximadamente 1 HORA.\nActividad con reserva y plazas limitadas exclusiva para clientes que compren alguno de los libros de la colección.\nPara participar debes seguir estos pasos:\n» 1. Compra algún libro de la Colección Cachitos de Mi Vida en nuestra librería o en nuestra página web\n» 2. Rellena el formulario de reserva de plaza de la sesión a la que quieres asistir\, indicando el número de ticket del libro que compraste en la librería\, o el número de pedido web si lo comprastre online\, o comprándolo simultáneamente:\n\n Reserva aquí tu entrada\nDe 7 a 11 Años (pueden venir hermanos juntos de ese rango de edad con un mismo libro). \nCon la colaboración de la editorial Diquesí\n
URL:https://www.liberespacio.com/eventos/escape-room-la-busqueda-del-tesoro/
LOCATION:C/Joaquín María López\, 25\, Madrid\, Madrid\, 28015\, España
CATEGORIES:Actividades en la librería,Actividades infantiles,Encuentros con autores y presentaciones,Fomento de la lectura
ATTACH;FMTTYPE=image/jpeg:https://www.liberespacio.com/wp-content/uploads/2022/02/Búsqueda-del-tesoro-con-ANTXÓN-NOA-Y-ROBER-1.jpg
ORGANIZER;CN="Librer%C3%ADa%20Liberespacio":MAILTO:info@liberespacio.com
END:VEVENT
END:VCALENDAR