BEGIN:VCALENDAR
VERSION:2.0
PRODID:-//Librería Liberespacio - ECPv4.5.13//NONSGML v1.0//EN
CALSCALE:GREGORIAN
METHOD:PUBLISH
X-WR-CALNAME:Librería Liberespacio
X-ORIGINAL-URL:https://www.liberespacio.com
X-WR-CALDESC:Events for Librería Liberespacio
BEGIN:VEVENT
DTSTART;TZID=Europe/Madrid:20210920T183000
DTEND;TZID=Europe/Madrid:20210920T193000
DTSTAMP:20260420T224219
CREATED:20210901T113824Z
LAST-MODIFIED:20210901T115359Z
UID:25377-1632162600-1632166200@www.liberespacio.com
SUMMARY:Encuentros creativos en el reino de Libetenita
DESCRIPTION:De octubre a junio de 2021\, te proponemos participar en nuestros encuentros quincenales para adentrarte en el mundo de la creatividad literaria.\n¡Conviértete en un mago de las palabras\, la imaginación y la ilustración\, de la mano de nuestras colaboradoras de Letrimagia.!\nDe 6 a 12 años\nPlazas limitadas a 12 aprendices por sesión en 2 grupos según edades\n2 sesiones al mes de una hora de duración. Primera sesión de prueba gratuita el 20 de septiembre a las 18:30\nResto de fechas: 4 y 18 octubre. 8 y 22 noviembre\, 29 noviembre y 13 diciembre.\n10 y 24 enero\,7 y 21 febrero\, 7 y 21 marzo\, 4 y 18 abril\,  9 y 23 mayo\, 6 junio y 13 junio. \n20€ al mes/aprendíz.\nReserva aquí para asistir a la sesión de prueba del día 20 de septimbre:\n\n            var ajaxurl = 'https://www.liberespacio.com/wp-admin/admin-ajax.php';\n            var smartFormsCurrentTime=new Date('Mon Apr 20 2026 22:42:19 +0000');\n            	var smartFormsUserName="";\n            	var smartFormsFirstName="";\n            	var smartFormsLastName="";\n            	var smartFormsEmail="";\n                var smartFormsPath="https://www.liberespacio.com/wp-content/plugins/smart-forms/";\n                var smartDonationsRootPath="";\n                var smartDonationsSandbox="";\n                var smartFormsAdditionalFields38=[];\n                var smartFormsDesignMode=false;\n                if(!window.smartFormsItemsToLoad)\n                    window.smartFormsItemsToLoad=new Array();                                                   \n        window.smartFormsItemsToLoad.push({ 'form_id':38\,  'elements':[{"ClassName":"rednaotextinput"\,"IsRequired":"n"\,"Formulas":{}\,"Styles":{}\,"Id":"rnField7"\,"Spacing":"col-sm-7"\,"Label":"Actividad"\,"Placeholder":"Reserva viaje prehistórico"\,"Value":""\,"ReadOnly":"y"\,"Width":""\,"Icon":{"ClassName":""}\,"CustomCSS":""\,"Placeholder_Icon":{"ClassName":""\,"Orientation":""}\,"ContainerOptions":{"Id":"1"\,"Type":"single"\,"Width":-1}\,"_id":1}\,{"ClassName":"rednaoname"\,"IsRequired":"y"\,"Formulas":{}\,"Styles":{}\,"Id":"rnField5"\,"Spacing":"col-sm-10"\,"Label":"Nombre y Apellidos"\,"FirstNamePlaceholder":"Nombre"\,"LastNamePlaceholder":"Apellidos"\,"FirstNameValue":""\,"LastNameValue":""\,"ReadOnly":"n"\,"Icon":{"ClassName":""}\,"CustomCSS":""\,"ContainerOptions":{"Id":"2"\,"Type":"single"\,"Width":-1}\,"FirstNamePlaceholder_Icon":{"ClassName":""}\,"_id":2}\,{"ClassName":"rednaonumber"\,"IsRequired":"y"\,"Formulas":{}\,"Styles":{}\,"Id":"rnField3"\,"Spacing":"col-sm-6"\,"Label":"Teléfono"\,"Placeholder":"Nº Teléfono"\,"NumberOfDecimals":0\,"MaximumValue":""\,"MinimumValue":""\,"Icon":{"ClassName":""}\,"CustomCSS":""\,"Placeholder_Icon":{"ClassName":""\,"Orientation":""}\,"ContainerOptions":{"Id":"3"\,"Type":"single"\,"Width":-1}\,"Decimals":0\,"_id":3\,"Width":""\,"Value":""}\,{"ClassName":"rednaoemail"\,"IsRequired":"y"\,"Formulas":{}\,"Styles":{}\,"Id":"rnField4"\,"Spacing":"col-sm-10"\,"Label":"Email"\,"Placeholder":"Email"\,"Icon":{"ClassName":""}\,"CustomCSS":""\,"Placeholder_Icon":{"ClassName":""\,"Orientation":""}\,"ContainerOptions":{"Id":"4"\,"Type":"single"\,"Width":-1}\,"_id":4\,"Value":""\,"ReadOnly":"n"}\,{"ClassName":"rednaotextinput"\,"IsRequired":"y"\,"Formulas":{}\,"Styles":{}\,"Id":"rnField16"\,"Spacing":"col-sm-6"\,"Label":"Asistente"\,"Placeholder":"Nº de asistentes"\,"Value":""\,"ReadOnly":"n"\,"Width":""\,"Icon":{"ClassName":""}\,"CustomCSS":""\,"Placeholder_Icon":{"ClassName":""\,"Orientation":""}\,"ContainerOptions":{"Id":"5"\,"Type":"single"\,"Width":-1}\,"_id":5}\,{"ClassName":"rednaotextinput"\,"IsRequired":"y"\,"Formulas":{}\,"Styles":{}\,"Id":"rnField9"\,"Spacing":"col-sm-6"\,"Label":"Edades"\,"Placeholder":""\,"Value":""\,"ReadOnly":"n"\,"Width":""\,"Icon":{"ClassName":""}\,"CustomCSS":""\,"Placeholder_Icon":{"ClassName":""\,"Orientation":""}\,"ContainerOptions":{"Width":-1\,"Id":"45"\,"Type":"single"}\,"_id":6}\,{"_id":44\,"ClassName":"rednaoprependedcheckbox"\,"IsRequired":"n"\,"Formulas":{}\,"Styles":{}\,"ContainerOptions":{"Width":-1\,"Id":"44"\,"Type":"single"}\,"Id":"rnField20"\,"Spacing":"col-sm-12"\,"Label":"¿Quieres suscribirte a nuestra newsletter?"\,"Placeholder":""\,"IsChecked":"y"\,"Value":"Sí. Autorizo a Liberespacio a enviarme comunicaciones por correo electrónico a la dirección de e-mail arriba indicada"\,"Width":""\,"CustomCSS":""\,"Placeholder_Icon":{"ClassName":""\,"Orientation":""}}\,{"ClassName":"rednaosubmissionbutton"\,"IsRequired":"n"\,"Formulas":{}\,"Styles":{"redNaoSubmitButton":{"Scope":"1"\,"Properties":{"Color":"#120B04"\,"background-color":"#CAFF4F"}}}\,"Id":"rnField10"\,"Spacing":"col-sm-12"\,"ButtonText":"Reservar"\,"CustomCSS":""\,"Icon":{"ClassName":""}\,"Animated":"y"\,"ContainerOptions":{"Id":"7"\,"Type":"single"\,"Width":-1}\,"_id":7}]\,'client_form_options':{"JavascriptCode":[]\,"CSS":""\,"Conditions":[]\,"UsesCaptcha":"n"\,"CaptchaVersion":""\,"alert_message":"Gracias por participar en nuestras actividades. Tu reserva ha sido enviada con éxito."\,"alert_message_cb":"y"\,"DontClearForm":"n"\,"redirect_to":[{"URL":""\,"RCSettings":{"Redirect":"always"\,"ConditionSettings":[]}}]\,"redirect_to_cb":"n"\,"Campaign":""\,"PayPalEmail":""\,"PayPalCondition":{}\,"PayPalType":"donation"\,"PayPalDescription":""\,"PayPalCurrency":"USD"\,"Formulas":{}\,"InvalidInputMessage":"Por favor\, rellene todos los campos obligatorios"\,"FormType":"nor"\,"SplitSteps":{}\,"ToolTipPosition":"right"\,"Theme":"basic"\,"LabelLayout":"top"\,"Extensions":{}}\,'container':'formContainer1640833674'});\nO suscríbete directamente al mes de octubre.\n Quiero apuntarme a este taller.\n
URL:https://www.liberespacio.com/eventos/encuentros-creativos-en-el-reino-de-libetenita/
LOCATION:C/Joaquín María López\, 25\, Madrid\, Madrid\, 28015\, España
CATEGORIES:Actividades en la librería,Actividades infantiles
ATTACH;FMTTYPE=image/jpeg:https://www.liberespacio.com/wp-content/uploads/2021/09/Cartel-libetenita-e1630495562666.jpg
END:VEVENT
END:VCALENDAR