BEGIN:VCALENDAR
VERSION:2.0
PRODID:-//Librería Liberespacio - ECPv4.5.13//NONSGML v1.0//EN
CALSCALE:GREGORIAN
METHOD:PUBLISH
X-WR-CALNAME:Librería Liberespacio
X-ORIGINAL-URL:https://www.liberespacio.com
X-WR-CALDESC:Events for Librería Liberespacio
BEGIN:VEVENT
DTSTART;TZID=Europe/Madrid:20241026T180000
DTEND;TZID=Europe/Madrid:20241026T190000
DTSTAMP:20260422T065111
CREATED:20241010T110206Z
LAST-MODIFIED:20241010T110616Z
UID:38019-1729965600-1729969200@www.liberespacio.com
SUMMARY:El sábado 26 de octubre taller creativo El secreto del Rey Lowry Lynch
DESCRIPTION:El sábado 26 de octubre a las 18:00h. tendremos un taller creativo con Denis Rafter y Gisselle Anderson\, autores de El Secreto del Rey Lowry Lynch.\nDiviértete actuando\, creando y dibujando tus propios personajes celtas\nAl finalizar la actividad los autores firmarán ejemplares comprados del libro.\nActividad con reserva hasta completar aforo\n+ 8 años\n Compra aquí el libro\nReserva aquí\n\n            var ajaxurl = 'https://www.liberespacio.com/wp-admin/admin-ajax.php';\n            var smartFormsCurrentTime=new Date('Wed Apr 22 2026 06:51:11 +0000');\n            	var smartFormsUserName="";\n            	var smartFormsFirstName="";\n            	var smartFormsLastName="";\n            	var smartFormsEmail="";\n                var smartFormsPath="https://www.liberespacio.com/wp-content/plugins/smart-forms/";\n                var smartDonationsRootPath="";\n                var smartDonationsSandbox="";\n                var smartFormsAdditionalFields23=[];\n                var smartFormsDesignMode=false;\n                if(!window.smartFormsItemsToLoad)\n                    window.smartFormsItemsToLoad=new Array();                                                   \n        window.smartFormsItemsToLoad.push({ 'form_id':23\,  'elements':[{"ClassName":"rednaotextinput"\,"IsRequired":"n"\,"Formulas":{}\,"Styles":{}\,"Id":"rnField7"\,"Spacing":"col-sm-7"\,"Label":"Actividad"\,"Placeholder":"Cuentacuentos "\,"Value":""\,"ReadOnly":"y"\,"Width":""\,"Icon":{"ClassName":""}\,"CustomCSS":""\,"Placeholder_Icon":{"ClassName":""\,"Orientation":""}\,"ContainerOptions":{"Id":"1"\,"Type":"single"\,"Width":-1}\,"_id":1}\,{"ClassName":"rednaoname"\,"IsRequired":"y"\,"Formulas":{}\,"Styles":{}\,"Id":"rnField5"\,"Spacing":"col-sm-10"\,"Label":"Nombre y Apellidos"\,"FirstNamePlaceholder":"Nombre"\,"LastNamePlaceholder":"Apellidos"\,"FirstNameValue":""\,"LastNameValue":""\,"ReadOnly":"n"\,"Icon":{"ClassName":""}\,"CustomCSS":""\,"ContainerOptions":{"Id":"2"\,"Type":"single"\,"Width":-1}\,"FirstNamePlaceholder_Icon":{"ClassName":""}\,"_id":2}\,{"ClassName":"rednaonumber"\,"IsRequired":"y"\,"Formulas":{}\,"Styles":{}\,"Id":"rnField3"\,"Spacing":"col-sm-6"\,"Label":"Teléfono"\,"Placeholder":"Nº Teléfono"\,"NumberOfDecimals":0\,"MaximumValue":""\,"MinimumValue":""\,"Icon":{"ClassName":""}\,"CustomCSS":""\,"Placeholder_Icon":{"ClassName":""\,"Orientation":""}\,"ContainerOptions":{"Id":"3"\,"Type":"single"\,"Width":-1}\,"Decimals":0\,"_id":3\,"Width":""\,"Value":""}\,{"ClassName":"rednaoemail"\,"IsRequired":"y"\,"Formulas":{}\,"Styles":{}\,"Id":"rnField4"\,"Spacing":"col-sm-10"\,"Label":"Email"\,"Placeholder":"Email"\,"Icon":{"ClassName":""}\,"CustomCSS":""\,"Placeholder_Icon":{"ClassName":""\,"Orientation":""}\,"ContainerOptions":{"Id":"4"\,"Type":"single"\,"Width":-1}\,"_id":4\,"ReadOnly":"n"\,"Value":""}\,{"ClassName":"rednaotextinput"\,"IsRequired":"y"\,"Formulas":{}\,"Styles":{}\,"Id":"rnField16"\,"Spacing":"col-sm-6"\,"Label":"Niños + Edad"\,"Placeholder":"N Niños y edad"\,"Value":""\,"ReadOnly":"n"\,"Width":""\,"Icon":{"ClassName":""}\,"CustomCSS":""\,"Placeholder_Icon":{"ClassName":""\,"Orientation":""}\,"ContainerOptions":{"Id":"5"\,"Type":"single"\,"Width":-1}\,"_id":5}\,{"_id":44\,"ClassName":"rednaoprependedcheckbox"\,"IsRequired":"y"\,"Formulas":{}\,"Styles":{}\,"ContainerOptions":{"Width":-1\,"Id":"44"\,"Type":"single"}\,"Id":"rnField20"\,"Spacing":"col-sm-12"\,"Label":"Autorizo a Liberespacio a enviarme comunicaciones a la dirección de correo electrónico facilitada."\,"Placeholder":"Sí"\,"IsChecked":"n"\,"Value":""\,"Width":""\,"CustomCSS":""\,"Placeholder_Icon":{"ClassName":""\,"Orientation":""}}\,{"ClassName":"rednaosubmissionbutton"\,"IsRequired":"n"\,"Formulas":{}\,"Styles":{"redNaoSubmitButton":{"Scope":"1"\,"Properties":{"Color":"#120B04"\,"background-color":"#CAFF4F"}}}\,"Id":"rnField10"\,"Spacing":"col-sm-12"\,"ButtonText":"Reservar"\,"CustomCSS":""\,"Icon":{"ClassName":""}\,"Animated":"y"\,"ContainerOptions":{"Id":"7"\,"Type":"single"\,"Width":-1}\,"_id":7}]\,'client_form_options':{"JavascriptCode":[]\,"CSS":""\,"Conditions":[]\,"UsesCaptcha":"n"\,"CaptchaVersion":""\,"alert_message":"Su reserva ha sido enviada con éxito. \n¡Gracias!"\,"alert_message_cb":"y"\,"DontClearForm":"n"\,"redirect_to":[{"URL":""\,"RCSettings":{"Redirect":"always"\,"ConditionSettings":[]}}]\,"redirect_to_cb":"n"\,"Campaign":""\,"PayPalEmail":""\,"PayPalCondition":{}\,"PayPalType":"donation"\,"PayPalDescription":""\,"PayPalCurrency":"USD"\,"Formulas":{}\,"InvalidInputMessage":"Por favor\, rellene todos los campos obligatorios"\,"FormType":"nor"\,"SplitSteps":{}\,"ToolTipPosition":"right"\,"Theme":"basic"\,"LabelLayout":"top"\,"Extensions":{}}\,'container':'formContainer1260987572'});\n
URL:https://www.liberespacio.com/eventos/el-sabado-26-de-octubre-taller-creativo-el-secreto-del-rey-lowry-lynch/
LOCATION:C/Joaquín María López\, 25\, Madrid\, Madrid\, 28015\, España
CATEGORIES:Actividades en la librería,Actividades infantiles,Encuentros con autores y presentaciones,Fomento de la lectura
ATTACH;FMTTYPE=image/jpeg:https://www.liberespacio.com/wp-content/uploads/2024/10/tallerlowrylynch-1.jpg
ORGANIZER;CN="Librer%C3%ADa%20Liberespacio":MAILTO:info@liberespacio.com
END:VEVENT
END:VCALENDAR