BEGIN:VCALENDAR
VERSION:2.0
PRODID:-//Librería Liberespacio - ECPv4.5.13//NONSGML v1.0//EN
CALSCALE:GREGORIAN
METHOD:PUBLISH
X-WR-CALNAME:Librería Liberespacio
X-ORIGINAL-URL:https://www.liberespacio.com
X-WR-CALDESC:Events for Librería Liberespacio
BEGIN:VEVENT
DTSTART;TZID=Europe/Madrid:20231014T110000
DTEND;TZID=Europe/Madrid:20231014T120000
DTSTAMP:20260420T210008
CREATED:20231009T161224Z
LAST-MODIFIED:20231010T083607Z
UID:34001-1697281200-1697284800@www.liberespacio.com
SUMMARY:El sábado 14 de octubre contamos cuentos
DESCRIPTION:El sábado 14 de octubre a las 11:00\, ofreceremos una sesión matinal de cuentacuentos. Contaremos Nada es lo que parece\, publicado por Ed. Jaguar.\nAl finalizar el cuento haremos una manualidad creativa.\nActividad familiar sin reserva hasta completar aforo.\n3€ reembolsables con compras de importe superior .\n\n+ 4 Años\n Compra aquí el libro de la sesión\n
URL:https://www.liberespacio.com/eventos/el-sabado-14-de-octubre-contamos-cuentos/
LOCATION:C/Joaquín María López\, 25\, Madrid\, Madrid\, 28015\, España
CATEGORIES:Actividades en la librería,Actividades infantiles
ATTACH;FMTTYPE=image/png:https://www.liberespacio.com/wp-content/uploads/2023/10/centacuentos-sábado.png
ORGANIZER;CN="Librer%C3%ADa%20Liberespacio":MAILTO:info@liberespacio.com
END:VEVENT
END:VCALENDAR