BEGIN:VCALENDAR
VERSION:2.0
PRODID:-//Librería Liberespacio - ECPv4.5.13//NONSGML v1.0//EN
CALSCALE:GREGORIAN
METHOD:PUBLISH
X-WR-CALNAME:Librería Liberespacio
X-ORIGINAL-URL:https://www.liberespacio.com
X-WR-CALDESC:Events for Librería Liberespacio
BEGIN:VEVENT
DTSTART;TZID=UTC+0:20180214T180000
DTEND;TZID=UTC+0:20180214T184500
DTSTAMP:20260421T175008
CREATED:20180114T170035Z
LAST-MODIFIED:20180305T111546Z
UID:7541-1518631200-1518633900@www.liberespacio.com
SUMMARY:El 14 de febrero celebra San Valentín en Liberespacio
DESCRIPTION:El miércoles 14 de febrero a las 18:00 nos ponemos románticos y contaremos la gran fábrica de las palabras porque no hay nada mejor que encontrar las palabras adecuadas para conquistar el corazón de nuestro amor anhelado.\nAdemás al finalizar el cuento realizarán una actividad creativa relacionada con la historia que se ha contado.\n\n ACTIVIDAD FAMILIAR GRATUITA HASTA COMPLETAR AFORO\n+ 4 AÑOS\n
URL:https://www.liberespacio.com/eventos/el-14-de-febrero-celebra-san-valentin-en-liberespacio/
LOCATION:C/Joaquín María López\, 25\, Madrid\, Madrid\, 28015\, España
CATEGORIES:Actividades en la librería
ATTACH;FMTTYPE=image/png:https://www.liberespacio.com/wp-content/uploads/2017/04/fabricacat_galeria2.png
ORGANIZER;CN="Librer%C3%ADa%20Liberespacio":MAILTO:info@liberespacio.com
END:VEVENT
END:VCALENDAR