BEGIN:VCALENDAR
VERSION:2.0
PRODID:-//Librería Liberespacio - ECPv4.5.13//NONSGML v1.0//EN
CALSCALE:GREGORIAN
METHOD:PUBLISH
X-WR-CALNAME:Librería Liberespacio
X-ORIGINAL-URL:https://www.liberespacio.com
X-WR-CALDESC:Events for Librería Liberespacio
BEGIN:VEVENT
DTSTART;TZID=UTC+0:20180627T183000
DTEND;TZID=UTC+0:20180627T193000
DTSTAMP:20260420T210256
CREATED:20180526T163005Z
LAST-MODIFIED:20180702T103217Z
UID:9177-1530124200-1530127800@www.liberespacio.com
SUMMARY:Dando una vuelta a los cuentos con La Rebelión de Los Cuentos
DESCRIPTION:El miércoles 27 de junio a las 18:30 contaremos el cuento: El lobo sentimental de Corimbo y proyectaremos un tráiler de la película La Rebelión de los cuentos\, una película de animación que reinventa de manera ingeniosa y moderna los cuentos clásicos\, basada en la obra de Roald Dahl y nominada a los premios Oscar.\nEn nuestra sección De un vistazo podrás encontrar más información del evento de presentación de la película.\n\n ACTIVIDAD FAMILIAR GRATUITA HASTA COMPLETAR AFORO\n+ 3 AÑOS\n
URL:https://www.liberespacio.com/eventos/dando-una-vuelta-a-los-cuentos-con-la-rebelion-de-los-cuentos/
LOCATION:C/Joaquín María López\, 25\, Madrid\, Madrid\, 28015\, España
CATEGORIES:Actividades en la librería,Cine
ATTACH;FMTTYPE=image/jpeg:https://www.liberespacio.com/wp-content/uploads/2018/05/contamos-cuentosmiercoles.jpg
ORGANIZER;CN="Librer%C3%ADa%20Liberespacio":MAILTO:info@liberespacio.com
END:VEVENT
END:VCALENDAR