BEGIN:VCALENDAR
VERSION:2.0
PRODID:-//Librería Liberespacio - ECPv4.5.13//NONSGML v1.0//EN
CALSCALE:GREGORIAN
METHOD:PUBLISH
X-WR-CALNAME:Librería Liberespacio
X-ORIGINAL-URL:https://www.liberespacio.com
X-WR-CALDESC:Events for Librería Liberespacio
BEGIN:VEVENT
DTSTART;TZID=Europe/Madrid:20260318T173000
DTEND;TZID=Europe/Madrid:20260318T183000
DTSTAMP:20260421T155004
CREATED:20260304T094026Z
LAST-MODIFIED:20260307T122903Z
UID:43643-1773855000-1773858600@www.liberespacio.com
SUMMARY:Cuentos para acompañar el lenguaje
DESCRIPTION:El miércoles 18 de marzo a las 17:30 la logopeda infantojuvenil Miriam Esquivias realizará la actividad Cuentos para acompañar el lenguaje.\nUn taller para familias con niños y niñas de 18meses a 3 años que comienzan a expresarse. A través de cuentos\, rimas y pequeñas improvisaciones\, exploraremos cómo los libros pueden acompañar la comunicación\, despertar la curiosidad por la lectura y fortalecer los momentos de vínculo en familia.\nPara familias con bebés de 18meses a 3 años\nActividad familiar con reserva y pago anticipado.\n12€ adulto +peque\, 6€familiar adicional\n Compra aquí tus entradas \n
URL:https://www.liberespacio.com/eventos/cuentos-para-acompanar-el-lenguaje-2/
LOCATION:C/Joaquín María López\, 25\, Madrid\, Madrid\, 28015\, España
CATEGORIES:Actividades en la librería,Actividades infantiles
ATTACH;FMTTYPE=image/png:https://www.liberespacio.com/wp-content/uploads/2026/02/Cuentos-para-acompañar-el-lenguaje-Liberespacio.png
ORGANIZER;CN="Librer%C3%ADa%20Liberespacio":MAILTO:info@liberespacio.com
END:VEVENT
END:VCALENDAR