BEGIN:VCALENDAR
VERSION:2.0
PRODID:-//Librería Liberespacio - ECPv4.5.13//NONSGML v1.0//EN
CALSCALE:GREGORIAN
METHOD:PUBLISH
X-WR-CALNAME:Librería Liberespacio
X-ORIGINAL-URL:https://www.liberespacio.com
X-WR-CALDESC:Events for Librería Liberespacio
BEGIN:VEVENT
DTSTART;TZID=Europe/Madrid:20220629T183000
DTEND;TZID=Europe/Madrid:20220629T190000
DTSTAMP:20260419T222034
CREATED:20220627T154950Z
LAST-MODIFIED:20220627T154950Z
UID:29124-1656527400-1656529200@www.liberespacio.com
SUMMARY:Cuentos fresquitos a la fresca
DESCRIPTION:Este verano ven con tus peques a Liberespacio a disfrutar cada jueves a las 18:30 de una sesión presencial de cuentacuentos con nuestra colaboradora Andrea Rodiguez.\n Actividad presencial gratuita sin reserva hasta completar aforo.\n+ 3 Años acopañados de un adulto.\n\n
URL:https://www.liberespacio.com/eventos/cuentos-fresquitos-a-la-fresca/
LOCATION:C/Joaquín María López\, 25\, Madrid\, Madrid\, 28015\, España
CATEGORIES:Actividades infantiles,Actividades infantiles en las redes,Cuentacuentos
ATTACH;FMTTYPE=image/png:https://www.liberespacio.com/wp-content/uploads/2022/06/¡Cuentos-fresquitos-a-la-fresca.png
ORGANIZER;CN="Librer%C3%ADa%20Liberespacio":MAILTO:info@liberespacio.com
END:VEVENT
END:VCALENDAR