BEGIN:VCALENDAR
VERSION:2.0
PRODID:-//Librería Liberespacio - ECPv4.5.13//NONSGML v1.0//EN
CALSCALE:GREGORIAN
METHOD:PUBLISH
X-WR-CALNAME:Librería Liberespacio
X-ORIGINAL-URL:https://www.liberespacio.com
X-WR-CALDESC:Events for Librería Liberespacio
BEGIN:VEVENT
DTSTART;TZID=Europe/Madrid:20191025T180000
DTEND;TZID=Europe/Madrid:20191025T190000
DTSTAMP:20260421T020746
CREATED:20190925T160054Z
LAST-MODIFIED:20191104T191855Z
UID:14485-1572026400-1572030000@www.liberespacio.com
SUMMARY:Cuentacuentos Musical: Ernest&Celestine
DESCRIPTION:El viernes 25 de octubre a las 18:00 ofreceremos un cuentacuentos musical\, con las historias de Ernest&Célestine.\n+3 Años\nActividad familiar sin reserva hasta completar aforo.\n3€/niñ* reembolsables con compras de importe superior realizadas en el día del evento.\n
URL:https://www.liberespacio.com/eventos/cuentacuentos-musical-ernestcelestine/
CATEGORIES:Actividades en la librería
ATTACH;FMTTYPE=image/jpeg:https://www.liberespacio.com/wp-content/uploads/2019/10/cuentomusical19-10.jpg
END:VEVENT
END:VCALENDAR