BEGIN:VCALENDAR
VERSION:2.0
PRODID:-//Librería Liberespacio - ECPv4.5.13//NONSGML v1.0//EN
CALSCALE:GREGORIAN
METHOD:PUBLISH
X-WR-CALNAME:Librería Liberespacio
X-ORIGINAL-URL:https://www.liberespacio.com
X-WR-CALDESC:Events for Librería Liberespacio
BEGIN:VEVENT
DTSTART;TZID=Europe/Madrid:20220319T120000
DTEND;TZID=Europe/Madrid:20220319T133000
DTSTAMP:20260420T210018
CREATED:20220314T123755Z
LAST-MODIFIED:20220314T123843Z
UID:27756-1647691200-1647696600@www.liberespacio.com
SUMMARY:Cuentacuentos: Hilando historias\, tejiendo redes.
DESCRIPTION:El sábado 19 de marzo a las 12h. nos sumamos al Día Internacional de la Narración Oral con una sesión presencial de cuentacuentos a cargo de Aída Muñoz y Marta Guijarro.\nActividad presencial gratuita\, con aforo limitado\, uso obligatorio de mascarilla y distancia interpersonal.\n+3 años\, acompañados de un adulto.\n\nImprescindible reserva previa.\n Reserva aquí tus entradas\nOrganizado por MANO(Asociación Madrileña de Narracción Oral)\n
URL:https://www.liberespacio.com/eventos/cuentacuentos-hilando-historias-tejiendo-redes/
LOCATION:C/Joaquín María López\, 25\, Madrid\, Madrid\, 28015\, España
CATEGORIES:Actividades en la librería,Actividades infantiles,Encuentros con autores y presentaciones,Fomento de la lectura
ATTACH;FMTTYPE=image/png:https://www.liberespacio.com/wp-content/uploads/2022/03/tejiendo-redes.png
ORGANIZER;CN="Librer%C3%ADa%20Liberespacio":MAILTO:info@liberespacio.com
END:VEVENT
END:VCALENDAR