BEGIN:VCALENDAR
VERSION:2.0
PRODID:-//Librería Liberespacio - ECPv4.5.13//NONSGML v1.0//EN
CALSCALE:GREGORIAN
METHOD:PUBLISH
X-WR-CALNAME:Librería Liberespacio
X-ORIGINAL-URL:https://www.liberespacio.com
X-WR-CALDESC:Events for Librería Liberespacio
BEGIN:VEVENT
DTSTART;TZID=UTC+0:20180314T180000
DTEND;TZID=UTC+0:20180314T184500
DTSTAMP:20260422T110022
CREATED:20180214T170035Z
LAST-MODIFIED:20180326T100431Z
UID:7871-1521050400-1521053100@www.liberespacio.com
SUMMARY:Cuentacuentos especial preparamos el día del padre
DESCRIPTION:Los miércoles de marzo retomamos nuestras sesiones de cuentos infantiles contados.\nVen a Liberespacio a descubrir fantásticas historias en familia. Cada miércoles contaremos un álbum ilustrado diferente. Así\, los niños disfrutan en compañía de sus padres y madres de buenos cuentos seleccionados\, que les estimulan la imaginación\, la creatividad y les enseñan cosas importantes para la vida. Además\, al finalizar el cuento realizarán alguna actividad creativa relacionada con la historia que se ha contado.\n Este miércoles prepararemos el día del padre y contaremos En los brazos de mi papa ¡me siento genial! de la colección de cuentos de emociones de Jo Witek editada por el sello Cubilete.\nAdemás\, hemos preparado una selección de libros que trabajan esta temática. ¡Ven a descubrirlos!\n ACTIVIDAD FAMILIAR GRATUITA HASTA COMPLETAR AFORO\n+ 4 AÑOS\n
URL:https://www.liberespacio.com/eventos/cuentacuentos-especial-preparamos-el-dia-del-padre/
LOCATION:C/Joaquín María López\, 25\, Madrid\, Madrid\, 28015\, España
CATEGORIES:Actividades en la librería
ATTACH;FMTTYPE=image/jpeg:https://www.liberespacio.com/wp-content/uploads/2018/02/DIAPADRE.jpg
ORGANIZER;CN="Librer%C3%ADa%20Liberespacio":MAILTO:info@liberespacio.com
END:VEVENT
END:VCALENDAR