BEGIN:VCALENDAR
VERSION:2.0
PRODID:-//Librería Liberespacio - ECPv4.5.13//NONSGML v1.0//EN
CALSCALE:GREGORIAN
METHOD:PUBLISH
X-WR-CALNAME:Librería Liberespacio
X-ORIGINAL-URL:https://www.liberespacio.com
X-WR-CALDESC:Events for Librería Liberespacio
BEGIN:VEVENT
DTSTART;TZID=Europe/Madrid:20260121T173000
DTEND;TZID=Europe/Madrid:20260121T183000
DTSTAMP:20260421T192604
CREATED:20260105T084732Z
LAST-MODIFIED:20260121T130649Z
UID:43142-1769016600-1769020200@www.liberespacio.com
SUMMARY:Cuentacuentos en inglés
DESCRIPTION:El miércoles 21 de enero a las 17:30h. ofreceremos un cuentacuentos en inglés del cuento Meet Mete de Cristina Turcan\, publicado por le editorial Babidi-Bú.\nActividad familiar gratuita con reserva.\n+5 Años\nAFORO COMPLETO\n\n
URL:https://www.liberespacio.com/eventos/cuentacuentos-en-ingles/
LOCATION:C/Joaquín María López\, 25\, Madrid\, Madrid\, 28015\, España
CATEGORIES:Actividad en inglés,Actividades en la librería,Actividades infantiles
ATTACH;FMTTYPE=image/jpeg:https://www.liberespacio.com/wp-content/uploads/2026/01/cuentacuentoIngles0126.jpg
ORGANIZER;CN="Librer%C3%ADa%20Liberespacio":MAILTO:info@liberespacio.com
END:VEVENT
END:VCALENDAR