BEGIN:VCALENDAR
VERSION:2.0
PRODID:-//Librería Liberespacio - ECPv4.5.13//NONSGML v1.0//EN
CALSCALE:GREGORIAN
METHOD:PUBLISH
X-WR-CALNAME:Librería Liberespacio
X-ORIGINAL-URL:https://www.liberespacio.com
X-WR-CALDESC:Events for Librería Liberespacio
BEGIN:VEVENT
DTSTART;TZID=UTC+0:20180310T113000
DTEND;TZID=UTC+0:20180310T123000
DTSTAMP:20260422T160013
CREATED:20180210T111227Z
LAST-MODIFIED:20180326T100356Z
UID:7880-1520681400-1520685000@www.liberespacio.com
SUMMARY:Cuentacuentos musical
DESCRIPTION:\n\n\n\nReserva aquí:\n\n            var ajaxurl = 'https://www.liberespacio.com/wp-admin/admin-ajax.php';\n            var smartFormsCurrentTime=new Date('Wed Apr 22 2026 16:00:13 +0000');\n            	var smartFormsUserName="";\n            	var smartFormsFirstName="";\n            	var smartFormsLastName="";\n            	var smartFormsEmail="";\n                var smartFormsPath="https://www.liberespacio.com/wp-content/plugins/smart-forms/";\n                var smartDonationsRootPath="";\n                var smartDonationsSandbox="";\n                var smartFormsAdditionalFields34=[];\n                var smartFormsDesignMode=false;\n                if(!window.smartFormsItemsToLoad)\n                    window.smartFormsItemsToLoad=new Array();                                                   \n        window.smartFormsItemsToLoad.push({ 'form_id':34\,  'elements':[{"ClassName":"rednaotextinput"\,"IsRequired":"n"\,"Formulas":{}\,"Styles":{}\,"Id":"rnField7"\,"Spacing":"col-sm-9"\,"Label":"Actividad"\,"Placeholder":"Cuentacuentos Aventuras de las letras"\,"Value":""\,"ReadOnly":"y"\,"Width":""\,"Icon":{"ClassName":""}\,"CustomCSS":""\,"Placeholder_Icon":{"ClassName":""\,"Orientation":""}\,"_id":1\,"ContainerOptions":{"Id":"1"\,"Type":"single"\,"Width":-1}}\,{"ClassName":"rednaoname"\,"IsRequired":"y"\,"Formulas":{}\,"Styles":{}\,"Id":"rnField5"\,"Spacing":"col-sm-10"\,"Label":"Nombre y Apellidos"\,"FirstNamePlaceholder":"Nombre"\,"LastNamePlaceholder":"Apellidos"\,"FirstNameValue":""\,"LastNameValue":""\,"ReadOnly":"n"\,"Icon":{"ClassName":""}\,"CustomCSS":""\,"_id":2\,"ContainerOptions":{"Id":"2"\,"Type":"single"\,"Width":-1}\,"FirstNamePlaceholder_Icon":{"ClassName":""}}\,{"ClassName":"rednaonumber"\,"IsRequired":"y"\,"Formulas":{}\,"Styles":{}\,"Id":"rnField3"\,"Spacing":"col-sm-6"\,"Label":"Teléfono"\,"Placeholder":"Nº Teléfono"\,"NumberOfDecimals":0\,"MaximumValue":""\,"MinimumValue":""\,"Icon":{"ClassName":""}\,"CustomCSS":""\,"Placeholder_Icon":{"ClassName":""\,"Orientation":""}\,"_id":3\,"ContainerOptions":{"Id":"3"\,"Type":"single"\,"Width":-1}\,"Decimals":0\,"Width":""\,"Value":""}\,{"ClassName":"rednaoemail"\,"IsRequired":"y"\,"Formulas":{}\,"Styles":{}\,"Id":"rnField4"\,"Spacing":"col-sm-10"\,"Label":"Email"\,"Placeholder":"Email"\,"Icon":{"ClassName":""}\,"CustomCSS":""\,"Placeholder_Icon":{"ClassName":""\,"Orientation":""}\,"_id":4\,"ContainerOptions":{"Id":"4"\,"Type":"single"\,"Width":-1}\,"ReadOnly":"n"\,"Value":""}\,{"ClassName":"rednaotextinput"\,"IsRequired":"y"\,"Formulas":{}\,"Styles":{}\,"Id":"rnField16"\,"Spacing":"col-sm-6"\,"Label":"Niños + Adultos"\,"Placeholder":"N. Niños + Adultos"\,"Value":""\,"ReadOnly":"n"\,"Width":""\,"Icon":{"ClassName":""}\,"CustomCSS":""\,"Placeholder_Icon":{"ClassName":""\,"Orientation":""}\,"_id":5\,"ContainerOptions":{"Id":"5"\,"Type":"single"\,"Width":-1}}\,{"ClassName":"rednaotextinput"\,"IsRequired":"y"\,"Formulas":{}\,"Styles":{}\,"Id":"rnField9"\,"Spacing":"col-sm-6"\,"Label":"Edades"\,"Placeholder":""\,"Value":""\,"ReadOnly":"n"\,"Width":""\,"Icon":{"ClassName":""}\,"CustomCSS":""\,"Placeholder_Icon":{"ClassName":""\,"Orientation":""}\,"_id":6\,"ContainerOptions":{"Id":"6"\,"Type":"single"\,"Width":-1}}\,{"ClassName":"rednaosubmissionbutton"\,"IsRequired":"n"\,"Formulas":{}\,"Styles":{"redNaoSubmitButton":{"Scope":"1"\,"Properties":{"Color":"#120B04"\,"background-color":"#CAFF4F"}}}\,"Id":"rnField10"\,"Spacing":"col-sm-12"\,"ButtonText":"Reservar"\,"CustomCSS":""\,"Icon":{"ClassName":""}\,"Animated":"y"\,"_id":7\,"ContainerOptions":{"Id":"7"\,"Type":"single"\,"Width":-1}}]\,'client_form_options':{"JavascriptCode":[]\,"CSS":""\,"Conditions":[]\,"UsesCaptcha":"n"\,"CaptchaVersion":""\,"alert_message":"Tu reserva ha sido enviada.\nGracias por participar en nuestras actividades."\,"alert_message_cb":"y"\,"DontClearForm":"n"\,"redirect_to":[{"URL":""\,"RCSettings":{"Redirect":"always"\,"ConditionSettings":[]}}]\,"redirect_to_cb":"n"\,"Campaign":null\,"PayPalEmail":""\,"PayPalCondition":{}\,"PayPalType":"donation"\,"PayPalDescription":""\,"PayPalCurrency":null\,"Formulas":{}\,"InvalidInputMessage":"Por favor\, rellene todos los campos obligatorios"\,"FormType":"nor"\,"SplitSteps":{}\,"ToolTipPosition":"right"\,"Theme":"basic"\,"LabelLayout":"top"\,"Extensions":{}}\,'container':'formContainer1417211422'});\n \n\nEl Sábado 10 de marzo a las 12:00 ofreceremos una sesión de cuentacuento musical con el cuento los fantasmas no llaman a la puerta de Eulalia Canal y Rocio Bonilla. Una entrañable historia invernal sobre lo absurdas que pueden ser las situaciones que se generan por los celos entre amigos.\nActividad dirigida a familias con niños a partir de 4 años\nPrecio. 3€\, reembolsables con compras de libros por importe superior.\n\n\n\n\n\n\n\n
URL:https://www.liberespacio.com/eventos/cuentacuento-musical-2018-03-10/
LOCATION:C/Joaquín María López\, 25\, Madrid\, Madrid\, 28015\, España
CATEGORIES:Actividades en la librería
ATTACH;FMTTYPE=image/jpeg:https://www.liberespacio.com/wp-content/uploads/2018/03/cuento-musicalsabado10.jpg
ORGANIZER;CN="Librer%C3%ADa%20Liberespacio":MAILTO:info@liberespacio.com
END:VEVENT
END:VCALENDAR