BEGIN:VCALENDAR
VERSION:2.0
PRODID:-//Librería Liberespacio - ECPv4.5.13//NONSGML v1.0//EN
CALSCALE:GREGORIAN
METHOD:PUBLISH
X-WR-CALNAME:Librería Liberespacio
X-ORIGINAL-URL:https://www.liberespacio.com
X-WR-CALDESC:Events for Librería Liberespacio
BEGIN:VEVENT
DTSTART;TZID=UTC+0:20180223T173000
DTEND;TZID=UTC+0:20180223T183000
DTSTAMP:20260421T172224
CREATED:20180123T163016Z
LAST-MODIFIED:20180305T110239Z
UID:7627-1519407000-1519410600@www.liberespacio.com
SUMMARY:Contamos cuentos con Kumon Moncloa
DESCRIPTION:El viernes 23 de febrero a las 17:30  contamos el cuento Efímera de Stephane Senegas con Kumon Moncloa\, un cuento recomendado en la guía de lectura Kumon.\nActividad familiar gratuita sin reserva hasta completar aforo.\n+ 4 Años\n
URL:https://www.liberespacio.com/eventos/contamos-cuentos-kumon-moncloa-2018-02-23/
LOCATION:C/Joaquín María López\, 25\, Madrid\, Madrid\, 28015\, España
CATEGORIES:Actividades en la librería
ATTACH;FMTTYPE=image/jpeg:https://www.liberespacio.com/wp-content/uploads/2017/12/9788416003648-e1518441487729.jpg
ORGANIZER;CN="Librer%C3%ADa%20Liberespacio":MAILTO:info@liberespacio.com
END:VEVENT
END:VCALENDAR