BEGIN:VCALENDAR
VERSION:2.0
PRODID:-//Librería Liberespacio - ECPv4.5.13//NONSGML v1.0//EN
CALSCALE:GREGORIAN
METHOD:PUBLISH
X-WR-CALNAME:Librería Liberespacio
X-ORIGINAL-URL:https://www.liberespacio.com
X-WR-CALDESC:Events for Librería Liberespacio
BEGIN:VEVENT
DTSTART;TZID=UTC+0:20180216T183000
DTEND;TZID=UTC+0:20180216T193000
DTSTAMP:20260421T160444
CREATED:20180116T173027Z
LAST-MODIFIED:20180305T111535Z
UID:7539-1518805800-1518809400@www.liberespacio.com
SUMMARY:Contamos cuento con Raquel Castaño
DESCRIPTION:El viernes 16 de febrero a las 18:30 la autora Raquel Castaño nos contará su cuento Encender la luz\, un cuento que ayudará a los más pequeños a entender mejor y aceptar la perdida de seres queridos\, mascotas\, etc.\n+ 3 Años\nActividad familiar gratuita hasta completar aforo.\nAl finalizar el cuento la autora firmará ejemplares.\n  \n
URL:https://www.liberespacio.com/eventos/contamos-cuento-raquel-castano/
LOCATION:C/Joaquín María López\, 25\, Madrid\, Madrid\, 28015\, España
CATEGORIES:Actividades en la librería,Encuentros con autores y presentaciones
ATTACH;FMTTYPE=image/jpeg:https://www.liberespacio.com/wp-content/uploads/2018/02/9788416777945.jpg
ORGANIZER;CN="Librer%C3%ADa%20Liberespacio":MAILTO:info@liberespacio.com
END:VEVENT
END:VCALENDAR