BEGIN:VCALENDAR
VERSION:2.0
PRODID:-//Librería Liberespacio - ECPv4.5.13//NONSGML v1.0//EN
CALSCALE:GREGORIAN
METHOD:PUBLISH
X-WR-CALNAME:Librería Liberespacio
X-ORIGINAL-URL:https://www.liberespacio.com
X-WR-CALDESC:Events for Librería Liberespacio
BEGIN:VEVENT
DTSTART;TZID=UTC+0:20180626T090000
DTEND;TZID=UTC+0:20180626T130000
DTSTAMP:20260425T123447
CREATED:20180526T091737Z
LAST-MODIFIED:20180702T103150Z
UID:8716-1530003600-1530018000@www.liberespacio.com
SUMMARY:Campamento de robótica con Colegos
DESCRIPTION:Del 26 al 29 de junio.\nDe 9 a 13 horas.\n16 horas de curso (4 horas diarias)\nPosibilidad de asistir a sesiones sueltas.\nDirigido a niños de 6 a 12 años\nPrecio: 40€ sesión suelta o 130€ campamento completo.\nPincha aquí para comprar entradas sueltas.\nPincha aquí para reservar el campamento completo.\nSe acercan las vacaciones escolares de verano y en Liberespacio queremos ofreceros un campamento-taller de robótica educativa para niños. Una actividad matinal especial muy divertida y didáctica para vuestros hijos.\nVuelve a nuestra librería\,  la ciencia y la tecnología de la mano de Colegos\, un grupo de maestros y pedagogos que aprovechan los beneficios de la programación y la robótica para educar en el tiempo libre.\nRobótica con Lego\, WeDo permite que los niños jueguen mientras aprenden el conocimiento y manejo de los componentes para la construcción de robots sencillos y complejos articulados\, motorizados mediante motores y sensores y a programarlos para dotarlos de movimiento.También se introducirán en el mundo de la programación de videojuegos con  Code y Minecraft 3D\nCon una metodología que no sólo fomenta la creatividad\, sino también la superación y el trabajo en equipo. Los participantes adquirirán conocimientos teórico y práctico\, para que se diviertan mientras aprenden. Deberán ir superando distintos retos orientados a desarrollar de forma práctica y didáctica sus habilidades cognitivas y sociales. Un taller que promueve el trabajo colaborativo y el respeto entre ellos. Los niños se convertirán en pequeños científicos en su laboratorio\, dónde podrán probar y ajustar sus programas en tiempo real.\nNo olvidéis traeros algún tentempié  para tomar a media mañana.\nActividad sujeta a la formación de grupo mínimo de 5 asistentes.\n
URL:https://www.liberespacio.com/eventos/campamento-de-robotica-con-colegos/
LOCATION:C/Joaquín María López\, 25\, Madrid\, Madrid\, 28015\, España
CATEGORIES:Actividades en la librería,Taller de robótica
ATTACH;FMTTYPE=image/jpeg:https://www.liberespacio.com/wp-content/uploads/2018/04/campamentorobotica.jpg
ORGANIZER;CN="Librer%C3%ADa%20Liberespacio":MAILTO:info@liberespacio.com
END:VEVENT
END:VCALENDAR